BEGIN:VCALENDAR
VERSION:2.0
PRODID:-//ChamberMaster//Event Calendar 2.0//EN
METHOD:PUBLISH
X-PUBLISHED-TTL:P3D
REFRESH-INTERVAL:P3D
CALSCALE:GREGORIAN
BEGIN:VEVENT
DTSTART:20120328T213000Z
DTEND:20120328T230000Z
X-MICROSOFT-CDO-ALLDAYEVENT:FALSE
SUMMARY:Finishing Touch Workshop
DESCRIPTION:Finishing Touch Workshop\n\n\n\nAnabel from Anabel's Oriental Rugs and Amanda from The Curtain Exchange invite you to completely your room with rungs and curtains.
X-ALT-DESC;FMTTYPE=text/html:Finishing Touch Workshop<br />\n<br />\nAnabel from Anabel&#39\;s Oriental Rugs and Amanda from The Curtain Exchange invite you to completely your room with rungs and curtains.
LOCATION:The Vogue Center in St. Matthews
UID:e.9037.1027
SEQUENCE:3
DTSTAMP:20260424T163304Z
URL:https://business.stmatthewschamber.com/events/details/finishing-touch-workshop-03-28-2012-1027
END:VEVENT

END:VCALENDAR
