BEGIN:VCALENDAR
VERSION:2.0
PRODID:-//ChamberMaster//Event Calendar 2.0//EN
METHOD:PUBLISH
X-PUBLISHED-TTL:P3D
REFRESH-INTERVAL:P3D
CALSCALE:GREGORIAN
BEGIN:VEVENT
DTSTART:20130221T163000Z
DTEND:20130221T180000Z
X-MICROSOFT-CDO-ALLDAYEVENT:FALSE
SUMMARY:February Business Luncheon
DESCRIPTION:FLASH: \n\nNEW LOCATION AND DATE!\n\n \n\nCome join us for our first Business Luncheon of 2013 at The Olmsted from 11:30 - 1 p.m. on February 21st!\n\n \n\nThe St. Matthews Area Chamber of Commerce welcomes David M. Borberg\, the Director of Client    Portfolio Strategist Group for Ivy Funds Distributor\, Inc. to the February Business Luncheon. He will be presenting\, "The Great Wake Up Call: CHOICES in a Changing World"\, a   conversation about how you can navigate the turbulent waters of the current financial climate.\n\n \n\nMark your calendars today!  And register online to earn your early bird discount!  \n\n\n\n(In the comments please list whether you would like the Kentucky Hot Brown or the Cheese Tortellini (Vegetarian).)
X-ALT-DESC;FMTTYPE=text/html:<span style="font-weight:bold\;language:en-US\;"><span style="color:red\;"><span style="font-size:12.0pt\;">FLASH: </span></span></span><br />\n<span style="font-weight:bold\;language:en-US\;"><span style="color:red\;"><span style="font-size:12.0pt\;">NEW LOCATION </span></span></span><span style="font-weight:bold\;language:en-US\;"><span style="color:red\;"><span style="font-size:12.0pt\;">AND DATE!</span></span></span><br />\n&nbsp\;<br />\n<span style="language:en-US\;">Come join us for our first Business Luncheon of 2013 at The Olmsted from 11:30 - 1 p.m. on February 21st!</span><br />\n&nbsp\;<br />\n<span style="language:en-US\;">The St. Matthews Area Chamber of Commerce welcomes David M. Borberg\, the Director of Client&nbsp\;&nbsp\;&nbsp\; Portfolio Strategist Group for Ivy Funds Distributor\, Inc. to the February Business Luncheon. He will be presenting\, &ldquo\;The Great Wake Up Call: CHOICES in a Changing World&rdquo\;\, a&nbsp\;&nbsp\; conversation about how you can navigate the turbulent waters of the current financial climate.</span><br />\n&nbsp\;<br />\n<span style="language:en-US\;">Mark your calendars today!&nbsp\; And register online to earn your early bird discount!<span _fck_bookmark="1" style="display: none\;">&nbsp\;</span><span _fck_bookmark="1" style="display: none\;">&nbsp\;</span></span><br />\n<br />\n<em><strong><span style="font-size:14px\;">(In the comments please list whether you would like the Kentucky Hot Brown or the Cheese Tortellini (Vegetarian).)</span></strong></em><span _fck_bookmark="1" style="display: none\;">&nbsp\;</span><span _fck_bookmark="1" style="display: none\;">&nbsp\;</span><br />\n&nbsp\;
LOCATION:The Olmsted 3701 Frankfort Avenue
UID:e.9037.1329
SEQUENCE:3
DTSTAMP:20260422T000932Z
URL:https://business.stmatthewschamber.com/events/details/february-business-luncheon-02-21-2013-1329
END:VEVENT

END:VCALENDAR
