BEGIN:VCALENDAR
VERSION:2.0
PRODID:-//ChamberMaster//Event Calendar 2.0//EN
METHOD:PUBLISH
X-PUBLISHED-TTL:P3D
REFRESH-INTERVAL:P3D
CALSCALE:GREGORIAN
BEGIN:VEVENT
DTSTART:20140219T163000Z
DTEND:20140219T180000Z
X-MICROSOFT-CDO-ALLDAYEVENT:FALSE
SUMMARY:February Business Luncheon
DESCRIPTION:Come join the Chamber for lunch at Big Spring Country Club. There will be a half hour of good networking with 80+ business representatives on average. In addition\, there will be fellow Chamber member trade show exhibits for you to browse\, a great meal for you to enjoy and a fantastic speaker for you to listen to.\n\n\n\nThis month's guest Speaker is Doug Proffitt with WHAS TV.\n\n\n\nThis is a register-only event so there will be no walk-ins unfortunately. Please register now and don't miss out on this great Chamber networking event!
X-ALT-DESC;FMTTYPE=text/html:Come join the Chamber for lunch at Big Spring Country Club. There will be a half hour of good networking with 80+ business representatives on average. In addition\, there will be fellow Chamber member trade show exhibits for you to browse\, a great meal for you to enjoy and a fantastic speaker for you to listen to.<br />\n<br />\nThis month&#39\;s guest Speaker is Doug Proffitt with WHAS TV.<br />\n<br />\nThis is a register-only event so there will be no walk-ins unfortunately. Please register now and don&#39\;t miss out on this great Chamber networking event!
LOCATION:Big Spring Country Club 5901 Dutchmans Lane Louisville\, KY 40205
UID:e.9037.1646
SEQUENCE:3
DTSTAMP:20260426T010608Z
URL:https://business.stmatthewschamber.com/events/details/february-business-luncheon-02-19-2014-1646
END:VEVENT

END:VCALENDAR
