BEGIN:VCALENDAR
VERSION:2.0
PRODID:-//ChamberMaster//Event Calendar 2.0//EN
METHOD:PUBLISH
X-PUBLISHED-TTL:P3D
REFRESH-INTERVAL:P3D
CALSCALE:GREGORIAN
BEGIN:VEVENT
DTSTART:20120215T123000Z
DTEND:20120215T140000Z
X-MICROSOFT-CDO-ALLDAYEVENT:FALSE
SUMMARY:February Business Breakfast
DESCRIPTION:Speaker:  Michael Ashcraft\, Economic Specialist US Small Business Administration\, KY District Office\n\n	\n\n	Small business are struggling to keep their doors open. Starting a new business is even more challenging. Did you know that there are free resources and programs to help you start\, grow and succeed!\n\n	 \n\n	Members:  $10\n\n	Guests: $20
X-ALT-DESC;FMTTYPE=text/html:<p>\n	Speaker:&nbsp\; Michael Ashcraft\, Economic Specialist US Small Business Administration\, KY District Office<br />\n	<br />\n	Small business are struggling to keep their doors open. Starting a new business is even more challenging. Did you know that there are free resources and programs to help you start\, grow and succeed!</p>\n<p>\n	&nbsp\;</p>\n<p>\n	Members:&nbsp\; $10<br />\n	Guests: $20</p>\n
LOCATION:St. Matthews Community Center 310 Ten Pin Lane St. Matthews\, KY 40207
UID:e.9037.99
SEQUENCE:3
DTSTAMP:20260424T155348Z
URL:https://business.stmatthewschamber.com/events/details/february-business-breakfast-02-15-2012-99
END:VEVENT

END:VCALENDAR
