BEGIN:VCALENDAR
VERSION:2.0
PRODID:-//ChamberMaster//Event Calendar 2.0//EN
METHOD:PUBLISH
X-PUBLISHED-TTL:P3D
REFRESH-INTERVAL:P3D
CALSCALE:GREGORIAN
BEGIN:VEVENT
DTSTART:20130511T143000Z
DTEND:20130511T163000Z
X-MICROSOFT-CDO-ALLDAYEVENT:FALSE
SUMMARY:Exploring with All the Senses
DESCRIPTION:Although we generally use our sense of sight when we explore the world around us\, the park-like grounds of APH are a delight for all the senses. Children and their parents will be encouraged to take time for a sensory exploration -- smelling the new spring greenery\, feeling the rough bark of trees and the smooth stone walls\, identifying birds by their songs. Our guest leader for this event is a Judy Gardner\, a naturalist from the Louisville Nature Center.\n\n\n\nThe event is free\, but registrations are required. Call 899-2213 by May 9 to register. Best for children ages 5-10
X-ALT-DESC;FMTTYPE=text/html:Although we generally use our sense of sight when we explore the world around us\, the park-like grounds of APH are a delight for all the senses. Children and their parents will be encouraged to take time for a sensory exploration -- smelling the new spring greenery\, feeling the rough bark of trees and the smooth stone walls\, identifying birds by their songs. Our guest leader for this event is a Judy Gardner\, a naturalist from the Louisville Nature Center.<br />\n<br />\nThe event is free\, but registrations are required. Call 899-2213 by May 9 to register. Best for children ages 5-10<br />\n
LOCATION:Museum of the American Printing House for the Blind 1839 Frankfort Ave\, Louisville\, KY 40206
UID:e.9037.1571
SEQUENCE:3
DTSTAMP:20260425T132801Z
URL:https://business.stmatthewschamber.com/events/details/exploring-with-all-the-senses-05-11-2013-1571
END:VEVENT

END:VCALENDAR
