BEGIN:VCALENDAR
VERSION:2.0
PRODID:-//ChamberMaster//Event Calendar 2.0//EN
METHOD:PUBLISH
X-PUBLISHED-TTL:P3D
REFRESH-INTERVAL:P3D
CALSCALE:GREGORIAN
BEGIN:VEVENT
DTSTART:20130221T163000Z
DTEND:20130221T180000Z
X-MICROSOFT-CDO-ALLDAYEVENT:FALSE
SUMMARY:Event hosted by Waddell & Reed
DESCRIPTION:The St. Matthews Area Chamber of Commerce in conjunction with Waddell & Reed\, welcomes David M. Borberg\, the Director of Client Portfolio Strategist Group for Ivy Funds Distributor\, Inc. to the February Business Luncheon. He will be presenting\, The Great Wake Up Call: CHOICES in a Changing World\, a conversation about issues and opportunities in the current financial climate.
X-ALT-DESC;FMTTYPE=text/html:The St. Matthews Area Chamber of Commerce in conjunction with Waddell &amp\; Reed\, welcomes David M. Borberg\, the Director of Client Portfolio Strategist Group for Ivy Funds Distributor\, Inc. to the February Business Luncheon. He will be presenting\, The Great Wake Up Call: CHOICES in a Changing World\, a conversation about issues and opportunities in the current financial climate.
LOCATION:The Olmsted
UID:e.9037.1416
SEQUENCE:3
DTSTAMP:20260421T224110Z
URL:https://business.stmatthewschamber.com/events/details/event-hosted-by-waddell-reed-02-21-2013-1416
END:VEVENT

END:VCALENDAR
