BEGIN:VCALENDAR
VERSION:2.0
PRODID:-//ChamberMaster//Event Calendar 2.0//EN
METHOD:PUBLISH
X-PUBLISHED-TTL:P3D
REFRESH-INTERVAL:P3D
CALSCALE:GREGORIAN
BEGIN:VEVENT
DTSTART:20130228T230000Z
DTEND:20130301T000000Z
X-MICROSOFT-CDO-ALLDAYEVENT:FALSE
SUMMARY:Event at Wellness 360
DESCRIPTION:Thurs Feb 28 Your Body\, Your Birth\, Your Baby\n\n6:00p - 7:00p w/ Nicole Lenfert\n\nJoin our FREE informational workshop to help prepare you for a positive birth experience. During this session\, we will provide an introduction to Hypnobabies Childbirth Education Classes. We will explain the beneficial effects of prenatal massage and the use of yoga during and after pregnancy. We will also teach you what a doula does and how they can help with the birth experience. Please feel free to bring friends\, family\, and lots of questions!\n\nFREE
X-ALT-DESC;FMTTYPE=text/html:<strong style="color: rgb(80\, 80\, 80)\; font-family: Helvetica\; font-size: 14px\; line-height: 21px\; text-align: center\; background-color: rgb(173\, 167\, 185)\; ">Thurs Feb 28 Your Body\, Your Birth\, Your Baby</strong><br style="color: rgb(80\, 80\, 80)\; font-family: Helvetica\; font-size: 14px\; line-height: 21px\; text-align: center\; background-color: rgb(173\, 167\, 185)\; " />\n<span style="color: rgb(80\, 80\, 80)\; font-family: Helvetica\; font-size: 14px\; line-height: 21px\; text-align: center\; background-color: rgb(173\, 167\, 185)\; ">6:00p - 7:00p w/ Nicole Lenfert</span><br style="color: rgb(80\, 80\, 80)\; font-family: Helvetica\; font-size: 14px\; line-height: 21px\; text-align: center\; background-color: rgb(173\, 167\, 185)\; " />\n<span style="color: rgb(80\, 80\, 80)\; font-family: Helvetica\; font-size: 14px\; line-height: 21px\; text-align: center\; background-color: rgb(173\, 167\, 185)\; ">Join our FREE informational workshop to help prepare you for a positive birth experience. During this session\, we will provide an introduction to Hypnobabies Childbirth Education Classes. We will explain the beneficial effects of prenatal massage and the use of yoga during and after pregnancy. We will also teach you what a doula does and how they can help with the birth experience. Please feel free to bring friends\, family\, and lots of questions!</span><br style="color: rgb(80\, 80\, 80)\; font-family: Helvetica\; font-size: 14px\; line-height: 21px\; text-align: center\; background-color: rgb(173\, 167\, 185)\; " />\n<span style="color: rgb(80\, 80\, 80)\; font-family: Helvetica\; font-size: 14px\; line-height: 21px\; text-align: center\; background-color: rgb(173\, 167\, 185)\; ">FREE</span><br style="color: rgb(80\, 80\, 80)\; font-family: Helvetica\; font-size: 14px\; line-height: 21px\; text-align: center\; background-color: rgb(173\, 167\, 185)\; " />\n
LOCATION:Wellness 360 241 Sears Ave Louisville\, KY 40207
UID:e.9037.1426
SEQUENCE:3
DTSTAMP:20260425T145558Z
URL:https://business.stmatthewschamber.com/events/details/event-at-wellness-360-02-28-2013-1426
END:VEVENT

END:VCALENDAR
