BEGIN:VCALENDAR
VERSION:2.0
PRODID:-//ChamberMaster//Event Calendar 2.0//EN
METHOD:PUBLISH
X-PUBLISHED-TTL:P3D
REFRESH-INTERVAL:P3D
CALSCALE:GREGORIAN
BEGIN:VEVENT
DTSTART:20130226T233000Z
DTEND:20130227T010000Z
X-MICROSOFT-CDO-ALLDAYEVENT:FALSE
SUMMARY:Event at Wellness 360
DESCRIPTION:Tues Feb 26 Green House Keeping\n\n	6:30p - 8:00p w/ Kathy Werking\n\n	Learn to keep your home squeaky clean without using chemicals that harm the environment and your family. Cleaning naturally is easy and economical-students will receive recipes\, a supply list\, and an ingredient list. Students will take home samples of several recipes. Purchase of an essential oil blend ($12) and natural soap flakes ($6) is optional. Recipes include: General Purpose Cleaner\, Drain & Garbage Disposal Cleaner\, Mold & Mildew Eliminator\, Garbage Pail Deodorizer\, Smells-Good Kitchen Rinse\, Toilet Bowl Cleaner\, Creamy Soft Scrub\, Bathroom Deodorizer\, No-Wax Floor Cleaner\, Carpet Deodorizer\, and Natural Laundry Soap.\n\n	$20\n\n	Instructor Information: Kathy Werking happily creates natural soap\, body care\, and candles in her Kentucky Green Studio located near Paris\, KY. She is a juried member of Kentucky Proud\, the Kentucky Craft Marketing program\, and the Kentucky Artisan Center at Berea. Kathy teaches classes through community education and at her studio.
X-ALT-DESC;FMTTYPE=text/html:<strong style="color: rgb(80\, 80\, 80)\; font-family: Helvetica\; font-size: 14px\; line-height: 21px\; text-align: center\; ">Tues Feb 26 Green House Keeping</strong>\n<div style="color: rgb(80\, 80\, 80)\; font-family: Helvetica\; font-size: 14px\; line-height: 21px\; background-color: rgb(173\, 167\, 185)\; text-align: center\; ">\n	6:30p - 8:00p w/ Kathy Werking<br />\n	Learn to keep your home squeaky clean without using chemicals that harm the environment and your family. Cleaning naturally is easy and economical-students will receive recipes\, a supply list\, and an ingredient list. Students will take home samples of several recipes. Purchase of an essential oil blend ($12) and natural soap flakes ($6) is optional. Recipes include: General Purpose Cleaner\, Drain &amp\; Garbage Disposal Cleaner\, Mold &amp\; Mildew Eliminator\, Garbage Pail Deodorizer\, Smells-Good Kitchen Rinse\, Toilet Bowl Cleaner\, Creamy Soft Scrub\, Bathroom Deodorizer\, No-Wax Floor Cleaner\, Carpet Deodorizer\, and Natural Laundry Soap.<br />\n	$20</div>\n<div style="color: rgb(80\, 80\, 80)\; font-family: Helvetica\; font-size: 14px\; line-height: 21px\; background-color: rgb(173\, 167\, 185)\; text-align: center\; ">\n	<strong>Instructor Information:</strong>&nbsp\;Kathy Werking happily creates natural soap\, body care\, and candles in her Kentucky Green Studio located near Paris\, KY. She is a juried member of Kentucky Proud\, the Kentucky Craft Marketing program\, and the Kentucky Artisan Center at Berea. Kathy teaches classes through community education and at her studio.</div>\n
LOCATION:Wellness 360 241 Sears Ave Louisville\, KY 40207
UID:e.9037.1425
SEQUENCE:3
DTSTAMP:20260425T145656Z
URL:https://business.stmatthewschamber.com/events/details/event-at-wellness-360-02-26-2013-1425
END:VEVENT

END:VCALENDAR
