BEGIN:VCALENDAR
VERSION:2.0
PRODID:-//ChamberMaster//Event Calendar 2.0//EN
METHOD:PUBLISH
X-PUBLISHED-TTL:P3D
REFRESH-INTERVAL:P3D
CALSCALE:GREGORIAN
BEGIN:VEVENT
DTSTART:20130226T160000Z
DTEND:20130226T180000Z
X-MICROSOFT-CDO-ALLDAYEVENT:FALSE
SUMMARY:Event at Wellness 360
DESCRIPTION:Tues Feb 26 Intro to Essential Oils\n\n11:00a -1:00p w/ Brooke Tazbaz\n\n\n	Essential Oils have many health benefits for the mind & body and have been used throughout history in many cultures for their medicinal & therapeutic benefits. Modern trends toward more holistic approaches to self care & growing scientific validation of alternative health practices are driving a rediscovery of the profound health benefits of essential oils.\nMany have powerful cleansing properties & are naturally antimicrobial. Their unique chemical structure allows them to pass directly through the skin for immediate systemic response to topical application.  Certain oils may be used as dietary aids to promote vitality & well-being.\n\nEach participant will take home an introductory oil kit with lemon\, lavender\, & peppermint along with the basic knowledge of how to effectively use Certified Pure Therapeutic Grade (CPTG) essential oils & how they can assist in the path of wellness. Intro kit included in the workshop fee.\n\n$25\n\nInstructor Info: Brooke Tazbaz\, RN has been a nurse for 14 years with a specialty in Emergency Nursing. Two and a half years ago she chose to use her education & nursing experience & began assisting friends\, family\, & eventually a client base to increase their health & wellness\, naturally\, through the use of essential oils\, this is now her full time passion. She has had great success empowering others to increase their health & wellness with CPTG essential oils\, even when modern medicine has come up short.
X-ALT-DESC;FMTTYPE=text/html:<strong style="color: rgb(80\, 80\, 80)\; font-family: Helvetica\; font-size: 14px\; line-height: 21px\; text-align: center\; background-color: rgb(173\, 167\, 185)\; ">Tues Feb 26 Intro to Essential Oils</strong><br style="color: rgb(80\, 80\, 80)\; font-family: Helvetica\; font-size: 14px\; line-height: 21px\; text-align: center\; background-color: rgb(173\, 167\, 185)\; " />\n<span style="color: rgb(80\, 80\, 80)\; font-family: Helvetica\; font-size: 14px\; line-height: 21px\; text-align: center\; background-color: rgb(173\, 167\, 185)\; ">11:00a -1:00p w/ Brooke Tazbaz</span><br style="color: rgb(80\, 80\, 80)\; font-family: Helvetica\; font-size: 14px\; line-height: 21px\; text-align: center\; background-color: rgb(173\, 167\, 185)\; " />\n<div style="color: rgb(80\, 80\, 80)\; font-family: Helvetica\; font-size: 14px\; line-height: 21px\; text-align: center\; background-color: rgb(173\, 167\, 185)\; ">\n	Essential Oils have many health benefits for the mind &amp\; body and have been used throughout history in many cultures for their medicinal &amp\; therapeutic benefits. Modern trends toward more holistic approaches to self care &amp\; growing scientific validation of alternative health practices are driving a rediscovery of the profound health benefits of essential oils.</div>\n<span style="color: rgb(80\, 80\, 80)\; font-family: Helvetica\; font-size: 14px\; line-height: 21px\; text-align: center\; background-color: rgb(173\, 167\, 185)\; ">Many have powerful cleansing properties &amp\; are naturally antimicrobial. Their unique chemical structure allows them to pass directly through the skin for immediate systemic response to topical application.&nbsp\; Certain oils may be used as dietary aids to promote vitality &amp\; well-being.</span><br style="color: rgb(80\, 80\, 80)\; font-family: Helvetica\; font-size: 14px\; line-height: 21px\; text-align: center\; background-color: rgb(173\, 167\, 185)\; " />\n<span style="color: rgb(80\, 80\, 80)\; font-family: Helvetica\; font-size: 14px\; line-height: 21px\; text-align: center\; background-color: rgb(173\, 167\, 185)\; ">Each participant will take home an introductory oil kit with lemon\, lavender\, &amp\; peppermint along with the basic knowledge of how to effectively use Certified Pure Therapeutic Grade (CPTG) essential oils &amp\; how they can assist in the path of wellness. Intro kit included in the workshop fee.</span><br style="color: rgb(80\, 80\, 80)\; font-family: Helvetica\; font-size: 14px\; line-height: 21px\; text-align: center\; background-color: rgb(173\, 167\, 185)\; " />\n<span style="color: rgb(80\, 80\, 80)\; font-family: Helvetica\; font-size: 14px\; line-height: 21px\; text-align: center\; background-color: rgb(173\, 167\, 185)\; ">$25</span><br style="color: rgb(80\, 80\, 80)\; font-family: Helvetica\; font-size: 14px\; line-height: 21px\; text-align: center\; background-color: rgb(173\, 167\, 185)\; " />\n<strong style="color: rgb(80\, 80\, 80)\; font-family: Helvetica\; font-size: 14px\; line-height: 21px\; text-align: center\; background-color: rgb(173\, 167\, 185)\; ">Instructor Info:</strong><span style="color: rgb(80\, 80\, 80)\; font-family: Helvetica\; font-size: 14px\; line-height: 21px\; text-align: center\; background-color: rgb(173\, 167\, 185)\; ">&nbsp\;Brooke Tazbaz\, RN has been a nurse for 14 years with a specialty in Emergency Nursing. Two and a half years ago she chose to use her education &amp\; nursing experience &amp\; began assisting friends\, family\, &amp\; eventually a client base to increase their health &amp\; wellness\, naturally\, through the use of essential oils\, this is now her full time passion. She has had great success empowering others to increase their health &amp\; wellness with CPTG essential oils\, even when modern medicine has come up short.</span><br style="color: rgb(80\, 80\, 80)\; font-family: Helvetica\; font-size: 14px\; line-height: 21px\; text-align: center\; background-color: rgb(173\, 167\, 185)\; " />\n
LOCATION:Wellness 360 241 Sears Ave Louisville\, KY 40207
UID:e.9037.1423
SEQUENCE:3
DTSTAMP:20260425T145656Z
URL:https://business.stmatthewschamber.com/events/details/event-at-wellness-360-02-26-2013-1423
END:VEVENT

END:VCALENDAR
