BEGIN:VCALENDAR
VERSION:2.0
PRODID:-//ChamberMaster//Event Calendar 2.0//EN
METHOD:PUBLISH
X-PUBLISHED-TTL:P3D
REFRESH-INTERVAL:P3D
CALSCALE:GREGORIAN
BEGIN:VEVENT
DTSTART:20130226T000000Z
DTEND:20130226T010000Z
X-MICROSOFT-CDO-ALLDAYEVENT:FALSE
SUMMARY:Event at Wellness 360
DESCRIPTION:Mon Feb 25 Food & Nutritional Support Group\n\n7:00p - 8:00p w/ Emily Karl\n\nWith all of the contradicting information on diet and nutrition\, it's hard to know what's good for the body and what isn't. It can be even harder to implement the changes necessary that lead to a healthy lifestyle. Join Certified Health Coach Emily Karl for a weekly group meeting and find the support that you are seeking. Emily will answer questions along with providing general information for making improvements to the way we eat. Groups are informal. Come as you are and be prepared to talk about your pressing need of the day.\n\n$5 donation recommended
X-ALT-DESC;FMTTYPE=text/html:<strong style="color: rgb(80\, 80\, 80)\; font-family: Helvetica\; font-size: 14px\; line-height: 21px\; text-align: center\; background-color: rgb(173\, 167\, 185)\; ">Mon Feb 25 Food &amp\; Nutritional Support Group</strong><br style="color: rgb(80\, 80\, 80)\; font-family: Helvetica\; font-size: 14px\; line-height: 21px\; text-align: center\; background-color: rgb(173\, 167\, 185)\; " />\n<span style="color: rgb(80\, 80\, 80)\; font-family: Helvetica\; font-size: 14px\; line-height: 21px\; text-align: center\; background-color: rgb(173\, 167\, 185)\; ">7:00p - 8:00p w/ Emily Karl</span><br style="color: rgb(80\, 80\, 80)\; font-family: Helvetica\; font-size: 14px\; line-height: 21px\; text-align: center\; background-color: rgb(173\, 167\, 185)\; " />\n<span style="color: rgb(80\, 80\, 80)\; font-family: Helvetica\; font-size: 14px\; line-height: 21px\; text-align: center\; background-color: rgb(173\, 167\, 185)\; ">With all of the contradicting information on diet and nutrition\, it&rsquo\;s hard to know what&rsquo\;s good for the body and what isn&rsquo\;t. It can be even harder to implement the changes necessary that lead to a healthy lifestyle. Join Certified Health Coach Emily Karl for a weekly group meeting and find the support that you are seeking. Emily will answer questions along with providing general information for making improvements to the way we eat. Groups are informal. Come as you are and be prepared to talk about your pressing need of the day.</span><br style="color: rgb(80\, 80\, 80)\; font-family: Helvetica\; font-size: 14px\; line-height: 21px\; text-align: center\; background-color: rgb(173\, 167\, 185)\; " />\n<span style="color: rgb(80\, 80\, 80)\; font-family: Helvetica\; font-size: 14px\; line-height: 21px\; text-align: center\; background-color: rgb(173\, 167\, 185)\; ">$5 donation recommended</span><br style="color: rgb(80\, 80\, 80)\; font-family: Helvetica\; font-size: 14px\; line-height: 21px\; text-align: center\; background-color: rgb(173\, 167\, 185)\; " />\n
LOCATION:Wellness 360 241 Sears Ave Louisville\, KY 40207
UID:e.9037.1424
SEQUENCE:3
DTSTAMP:20260425T145615Z
URL:https://business.stmatthewschamber.com/events/details/event-at-wellness-360-02-25-2013-1424
END:VEVENT

END:VCALENDAR
