BEGIN:VCALENDAR
VERSION:2.0
PRODID:-//ChamberMaster//Event Calendar 2.0//EN
METHOD:PUBLISH
X-PUBLISHED-TTL:P3D
REFRESH-INTERVAL:P3D
CALSCALE:GREGORIAN
BEGIN:VEVENT
DTSTART:20130223T143000Z
DTEND:20130223T153000Z
X-MICROSOFT-CDO-ALLDAYEVENT:FALSE
SUMMARY:Event at Wellness 360
DESCRIPTION:Sat Feb 23  Mindful Munchkins\n\n9:30a - 10:30a w/ Pete Buecker\n\nA mindfulness program for kids aged 4-12\, from 9:30a to 10:30a. Parents are welcome to join also. Free for kids of members or paying yoga class participants. $12 per family of kids otherwise.
X-ALT-DESC;FMTTYPE=text/html:<strong style="color: rgb(80\, 80\, 80)\; font-family: Helvetica\; font-size: 14px\; line-height: 21px\; text-align: center\; background-color: rgb(173\, 167\, 185)\; ">Sat Feb 23</strong><span style="color: rgb(80\, 80\, 80)\; font-family: Helvetica\; font-size: 14px\; line-height: 21px\; text-align: center\; background-color: rgb(173\, 167\, 185)\; ">&nbsp\;&nbsp\;</span><strong style="color: rgb(80\, 80\, 80)\; font-family: Helvetica\; font-size: 14px\; line-height: 21px\; text-align: center\; background-color: rgb(173\, 167\, 185)\; ">Mindful Munchkins</strong><br style="color: rgb(80\, 80\, 80)\; font-family: Helvetica\; font-size: 14px\; line-height: 21px\; text-align: center\; background-color: rgb(173\, 167\, 185)\; " />\n<span style="color: rgb(80\, 80\, 80)\; font-family: Helvetica\; font-size: 14px\; line-height: 21px\; text-align: center\; background-color: rgb(173\, 167\, 185)\; ">9:30a - 10:30a w/ Pete Buecker</span><br style="color: rgb(80\, 80\, 80)\; font-family: Helvetica\; font-size: 14px\; line-height: 21px\; text-align: center\; background-color: rgb(173\, 167\, 185)\; " />\n<span style="color: rgb(80\, 80\, 80)\; font-family: Helvetica\; font-size: 14px\; line-height: 21px\; text-align: center\; background-color: rgb(173\, 167\, 185)\; ">A mindfulness program for kids aged 4-12\, from 9:30a to 10:30a. Parents are welcome to join also. Free for kids of members or paying yoga class participants. $12 per family of kids otherwise.</span>
LOCATION:Wellness 360 241 Sears Ave Louisville\, KY 40206
UID:e.9037.1421
SEQUENCE:3
DTSTAMP:20260425T145600Z
URL:https://business.stmatthewschamber.com/events/details/event-at-wellness-360-02-23-2013-1421
END:VEVENT

END:VCALENDAR
