BEGIN:VCALENDAR
VERSION:2.0
PRODID:-//ChamberMaster//Event Calendar 2.0//EN
METHOD:PUBLISH
X-PUBLISHED-TTL:P3D
REFRESH-INTERVAL:P3D
CALSCALE:GREGORIAN
BEGIN:VEVENT
DTSTART:20130223T000000Z
DTEND:20130223T010000Z
X-MICROSOFT-CDO-ALLDAYEVENT:FALSE
SUMMARY:Event at Wellness 360
DESCRIPTION:Fri\, Feb 22  Friday Night Mediation\n\n	     7:00p - 8:00p w/ Pete Buecker\n\n	     Relax and wind down at the end of your busy week with our Friday night meditation\, weekly at 7pm. Come as you are\, no experience is necessary. This practice is perfectly secular and compatible with any faith tradition. Bring your own cushion if you'd like\, otherwise there is plenty of seating. Experience the many health benefits of mediation for yourself.\n\n	$5 donation recommended.
X-ALT-DESC;FMTTYPE=text/html:<p style="color: blue\; ">\n	<strong style="color: rgb(80\, 80\, 80)\; font-family: Helvetica\; font-size: 14px\; line-height: 21px\; text-align: center\; ">Fri\, Feb 22&nbsp\; Friday Night Mediation</strong></p>\n<div style="color: rgb(80\, 80\, 80)\; font-family: Helvetica\; font-size: 14px\; line-height: 21px\; background-color: rgb(173\, 167\, 185)\; text-align: center\; ">\n	&nbsp\;&nbsp\;&nbsp\;&nbsp\; 7:00p - 8:00p w/ Pete Buecker<br />\n	&nbsp\;&nbsp\;&nbsp\;&nbsp\; Relax and wind down at the end of your busy week with our Friday night meditation\, weekly at 7pm. Come as you are\, no experience is necessary. This practice is perfectly secular and compatible with any faith tradition. Bring your own cushion if you&#39\;d like\, otherwise there is plenty of seating. Experience the many health benefits of mediation for yourself.</div>\n<div style="color: rgb(80\, 80\, 80)\; font-family: Helvetica\; font-size: 14px\; line-height: 21px\; background-color: rgb(173\, 167\, 185)\; text-align: center\; ">\n	$5 donation recommended.</div>\n
LOCATION:Wellness 360 241 Sears Ave Louisville\, KY 40207
UID:e.9037.1420
SEQUENCE:3
DTSTAMP:20260425T145559Z
URL:https://business.stmatthewschamber.com/events/details/event-at-wellness-360-02-22-2013-1420
END:VEVENT

END:VCALENDAR
