BEGIN:VCALENDAR
VERSION:2.0
PRODID:-//ChamberMaster//Event Calendar 2.0//EN
METHOD:PUBLISH
X-PUBLISHED-TTL:P3D
REFRESH-INTERVAL:P3D
CALSCALE:GREGORIAN
BEGIN:VEVENT
DTSTART;VALUE=DATE:20120428
DTEND;VALUE=DATE:20120430
TRANSP:TRANSPARENT
X-MICROSOFT-CDO-ALLDAYEVENT:TRUE
SUMMARY:Event at Trinity High School
DESCRIPTION:Trinity High School will host its annual Spring Concerts\, featuring our awrd-winning Choir and Jazz Band. The performanes are:\n\n\n\nSaturday\, April 28\, at 7 p.m.\n\nSunday\, April 29 at 2 p.m.\n\n\n\nCost: Free\n\n\n\nWhere: Trinity's Auditorium on Sherrin Avenue\n\n\n\nCall: 736-2177 for more information
X-ALT-DESC;FMTTYPE=text/html:Trinity High School will host its annual Spring Concerts\, featuring our awrd-winning Choir and Jazz Band. The performanes are:<br />\n<br />\nSaturday\, April 28\, at 7 p.m.<br />\nSunday\, April 29 at 2 p.m.<br />\n<br />\nCost: Free<br />\n<br />\nWhere: Trinity&#39\;s Auditorium on Sherrin Avenue<br />\n<br />\nCall: 736-2177 for more information
LOCATION:Trinith High School
UID:e.9037.1063
SEQUENCE:3
DTSTAMP:20260424T152218Z
URL:https://business.stmatthewschamber.com/events/details/event-at-trinity-high-school-04-28-2012-1063
END:VEVENT

END:VCALENDAR
