BEGIN:VCALENDAR
VERSION:2.0
PRODID:-//ChamberMaster//Event Calendar 2.0//EN
METHOD:PUBLISH
X-PUBLISHED-TTL:P3D
REFRESH-INTERVAL:P3D
CALSCALE:GREGORIAN
BEGIN:VEVENT
DTSTART:20130502T180000Z
DTEND:20130503T000000Z
X-MICROSOFT-CDO-ALLDAYEVENT:FALSE
SUMMARY:Event at The Magic of David Garrard
DESCRIPTION:Catch The Magic of David Garrard at the Middletown Kroger on May 2!  David will perform while folks wait to see the rose garlands being made for The Oaks.
X-ALT-DESC;FMTTYPE=text/html:Catch The Magic of David Garrard at the Middletown Kroger on May 2!&nbsp\; David will perform while folks wait to see the rose garlands being made for The Oaks.
LOCATION:
UID:e.9037.1569
SEQUENCE:3
DTSTAMP:20260425T132935Z
URL:https://business.stmatthewschamber.com/events/details/event-at-the-magic-of-david-garrard-05-02-2013-1569
END:VEVENT

END:VCALENDAR
