BEGIN:VCALENDAR
VERSION:2.0
PRODID:-//ChamberMaster//Event Calendar 2.0//EN
METHOD:PUBLISH
X-PUBLISHED-TTL:P3D
REFRESH-INTERVAL:P3D
CALSCALE:GREGORIAN
BEGIN:VEVENT
DTSTART:20120421T133000Z
DTEND:20120421T153000Z
X-MICROSOFT-CDO-ALLDAYEVENT:FALSE
SUMMARY:Event at SeniorCare Experts
DESCRIPTION:Have some annoying mail laying around the house? Or any of those fake credit cards? Even old documents you no longer need?\n\n\n\nIf you answered yes to any of those questions then you should come out the Shred Day! Come shred your confidential documents with SeniorCare Experts. We accept binders and staples. Shredding service provided by A+ Paper Shredding.\n\n\n\nA $5 donation is appreciated per car load.
X-ALT-DESC;FMTTYPE=text/html:Have some annoying mail laying around the house? Or any of those fake credit cards? Even old documents you no longer need?<br />\n<br />\nIf you answered yes to any of those questions then you should come out the Shred Day! Come shred your confidential documents with SeniorCare Experts. We accept binders and staples. Shredding service provided by A+ Paper Shredding.<br />\n<br />\nA $5 donation is appreciated per car load.
LOCATION:145 Thierman Lane
UID:e.9037.1061
SEQUENCE:3
DTSTAMP:20260424T163530Z
URL:https://business.stmatthewschamber.com/events/details/event-at-seniorcare-experts-04-21-2012-1061
END:VEVENT

END:VCALENDAR
