BEGIN:VCALENDAR
VERSION:2.0
PRODID:-//ChamberMaster//Event Calendar 2.0//EN
METHOD:PUBLISH
X-PUBLISHED-TTL:P3D
REFRESH-INTERVAL:P3D
CALSCALE:GREGORIAN
BEGIN:VEVENT
DTSTART;VALUE=DATE:20120305
DTEND;VALUE=DATE:20120309
TRANSP:TRANSPARENT
X-MICROSOFT-CDO-ALLDAYEVENT:TRUE
SUMMARY:Event at Emergency Restoration
DESCRIPTION:FOOD DRIVE: For Tornado Victims in Milton/Bedford\, KY\n\n\n\nWe will be accepting donations of canned/non-perishable food items including water\, paper products\, and pet food as well.\n\n\n\nAll donations need to be delivered by 5:00 pm Thursday to our location.\n\n\n\nWe will deliver to the Morgan Community Center\, Bedford\, KY on Friday\, March 9\, 2012.
X-ALT-DESC;FMTTYPE=text/html:FOOD DRIVE: For Tornado Victims in Milton/Bedford\, KY<br />\n<br />\nWe will be accepting donations of canned/non-perishable food items including water\, paper products\, and pet food as well.<br />\n<br />\nAll donations need to be delivered by 5:00 pm Thursday to our location.<br />\n<br />\nWe will deliver to the Morgan Community Center\, Bedford\, KY on Friday\, March 9\, 2012.<br />\n
LOCATION:5900 Poplar Level Rd\, Louisville\, KY 40228
UID:e.9037.999
SEQUENCE:3
DTSTAMP:20260424T163449Z
URL:https://business.stmatthewschamber.com/events/details/event-at-emergency-restoration-03-05-2012-999
END:VEVENT

END:VCALENDAR
