BEGIN:VCALENDAR
VERSION:2.0
PRODID:-//ChamberMaster//Event Calendar 2.0//EN
METHOD:PUBLISH
X-PUBLISHED-TTL:P3D
REFRESH-INTERVAL:P3D
CALSCALE:GREGORIAN
BEGIN:VEVENT
DTSTART;VALUE=DATE:20130211
DTEND;VALUE=DATE:20130212
TRANSP:TRANSPARENT
X-MICROSOFT-CDO-ALLDAYEVENT:TRUE
SUMMARY:Event at Chef Maria's Greek Deli
DESCRIPTION:Gyros Express Food Truck owned by Chef Maria's Greek Deli will be setting up Monday in the corner of Shellbyville and Fairfax Ave at 11.00 a.m till 3.00 p.m \n\n\n\nMenu Lamb Gyros\n\nChicken Gyros\n\nFrench Fries\n\nGreek Salad\,\n\nmoussaka\n\nPastitsio\n\nLasagna.
X-ALT-DESC;FMTTYPE=text/html:Gyros Express Food Truck owned by Chef Maria&#39\;s Greek Deli will be setting up Monday in the corner of Shellbyville and Fairfax Ave at 11.00 a.m till 3.00 p.m&nbsp\;<br />\n<br />\nMenu Lamb Gyros<br />\nChicken Gyros<br />\nFrench Fries<br />\nGreek Salad\,<br />\nmoussaka<br />\nPastitsio<br />\nLasagna.
LOCATION:Shellbyville and Fairfax Ave across from Trinity High School
UID:e.9037.1417
SEQUENCE:3
DTSTAMP:20260425T145832Z
URL:https://business.stmatthewschamber.com/events/details/event-at-chef-maria-s-greek-deli-02-11-2013-1417
END:VEVENT

END:VCALENDAR
