BEGIN:VCALENDAR
VERSION:2.0
PRODID:-//ChamberMaster//Event Calendar 2.0//EN
METHOD:PUBLISH
X-PUBLISHED-TTL:P3D
REFRESH-INTERVAL:P3D
CALSCALE:GREGORIAN
BEGIN:VEVENT
DTSTART:20130424T130000Z
DTEND:20130424T140000Z
X-MICROSOFT-CDO-ALLDAYEVENT:FALSE
SUMMARY:Event at Bruegger's Bagels
DESCRIPTION:WHAS 11 Great Day Live will be here live!  Come Meet our Chef Phillip Smith and enjoy the festivities!
X-ALT-DESC;FMTTYPE=text/html:WHAS 11 Great Day Live&nbsp\;will be here live!&nbsp\; Come Meet our Chef Phillip Smith and enjoy the festivities!
LOCATION:119 Breckenridge lane Louisville\, ky 20107
UID:e.9037.1566
SEQUENCE:3
DTSTAMP:20260425T121217Z
URL:https://business.stmatthewschamber.com/events/details/event-at-bruegger-s-bagels-04-24-2013-1566
END:VEVENT

END:VCALENDAR
