BEGIN:VCALENDAR
VERSION:2.0
PRODID:-//ChamberMaster//Event Calendar 2.0//EN
METHOD:PUBLISH
X-PUBLISHED-TTL:P3D
REFRESH-INTERVAL:P3D
CALSCALE:GREGORIAN
BEGIN:VEVENT
DTSTART:20120421T143000Z
DTEND:20120421T163000Z
X-MICROSOFT-CDO-ALLDAYEVENT:FALSE
SUMMARY:Event at American Printing House for the Blind
DESCRIPTION:Join us for a walking tour of the Clifton neighborhood\, starting at the historic 1883 building on the grounds of the American Printing House for the Blind.  On the two-hour tour\, we'll find evidence of the evolution of the area from a sparsely populated rural community im 1830 to a densely settled urban Louisville neighborhood.  Best for old students and adults.
X-ALT-DESC;FMTTYPE=text/html:Join us for a walking tour of the Clifton neighborhood\, starting at the historic 1883 building on the grounds of the American Printing House for the Blind.&nbsp\; On the two-hour tour\, we&#39\;ll find evidence of the evolution of the area from a sparsely populated rural community im 1830 to a densely settled urban Louisville neighborhood.&nbsp\; Best for old students and adults.
LOCATION:Museum of the American Printing House for the Blind 1839 Frankfort Avenue Louisville\, Ky 40206
UID:e.9037.1057
SEQUENCE:3
DTSTAMP:20260424T152706Z
URL:https://business.stmatthewschamber.com/events/details/event-at-american-printing-house-for-the-blind-04-21-2012-1057
END:VEVENT

END:VCALENDAR
