BEGIN:VCALENDAR
VERSION:2.0
PRODID:-//ChamberMaster//Event Calendar 2.0//EN
METHOD:PUBLISH
X-PUBLISHED-TTL:P3D
REFRESH-INTERVAL:P3D
CALSCALE:GREGORIAN
BEGIN:VEVENT
DTSTART:20120313T230000Z
DTEND:20120314T000000Z
X-MICROSOFT-CDO-ALLDAYEVENT:FALSE
SUMMARY:Estate Planning 101 ---
DESCRIPTION:This presentation will discuss the basics of Estate Planning for individuals and their families.\n\n\n\nSpeaker -- Sandra Moon -- Attorney at Law\, Eddins-Domine Law Group\, PLLC\n\n\n\nDate -- Tuesday - March 13\, 2012\n\n\n\nTime -- 7:00 - 8:00 PM\n\n\n\nLocation\n\n\n\nOld National Bank\n\n400 North Hurstbourne Parkway (between Jason's Deli and Bristol's)\n\nLouisville\, KY 40222\n\n\n\nPlease RSVP due to Limited seating (16 MAX) and feel free to bring others to the event.\n\n\n\nThanks and if you have any questions\, please call Kevin at 502-384-9164.
X-ALT-DESC;FMTTYPE=text/html:This presentation will discuss the basics of Estate Planning for individuals and their families.<br />\n<br />\nSpeaker -- Sandra Moon -- Attorney at Law\, Eddins-Domine Law Group\, PLLC<br />\n<br />\nDate -- Tuesday - March 13\, 2012<br />\n<br />\nTime -- 7:00 - 8:00 PM<br />\n<br />\n<u>Location</u><br />\n<br />\nOld National Bank<br />\n400 North Hurstbourne Parkway (between Jason&#39\;s Deli and Bristol&#39\;s)<br />\nLouisville\, KY 40222<br />\n<br />\nPlease RSVP due to Limited seating (16 MAX) and feel free to bring others to the event.<br />\n<br />\nThanks and if you have any questions\, please call Kevin at 502-384-9164.&nbsp\;
LOCATION:Old National Bank 400 North Hurstbourne Parkway (between Jason's Deli and Bristol's) Louisville\, KY 40222
UID:e.9037.997
SEQUENCE:3
DTSTAMP:20260424T163532Z
URL:https://business.stmatthewschamber.com/events/details/estate-planning-101-03-13-2012-997
END:VEVENT

END:VCALENDAR
