BEGIN:VCALENDAR
VERSION:2.0
PRODID:-//ChamberMaster//Event Calendar 2.0//EN
METHOD:PUBLISH
X-PUBLISHED-TTL:P3D
REFRESH-INTERVAL:P3D
CALSCALE:GREGORIAN
BEGIN:VEVENT
DTSTART:20130313T223000Z
DTEND:20130314T003000Z
X-MICROSOFT-CDO-ALLDAYEVENT:FALSE
SUMMARY:Dying to be Thin - Movie Night: "Someday Melissa"
DESCRIPTION:Did you know anorexia is the most fatal mental disorder? While many young adults with this disorder die from starvation and physical complications\, others die from suicide. Now there is hope for those suffering from this eating disorder.\n\n\n\nThe newly developed Eating Disorders Coalition of Kentuckiana is a group of providers dedicated to the prevention and treatment of eating disorders through educational programming. Join us for our inaugural programs.\n\n\n\nView and discuss a documentary based on the writings of a young woman who battled an eating disorder.
X-ALT-DESC;FMTTYPE=text/html:Did you know anorexia is the most fatal mental disorder? While many young adults with this disorder die from starvation and physical complications\, others die from suicide. Now there is hope for those suffering from this eating disorder.<br />\n<br />\nThe newly developed Eating Disorders Coalition of Kentuckiana is a group of providers dedicated to the prevention and treatment of eating disorders through educational programming. Join us for our inaugural programs.<br />\n<br />\nView and discuss a documentary based on the writings of a young woman who battled an eating disorder.
LOCATION:Marshall Women's Health & Education Center Norton Medicall Plaza III - Suburban Suite 108 4121 Dutchmans Lane - Louisville\, KY
UID:e.9037.1430
SEQUENCE:3
DTSTAMP:20260425T150124Z
URL:https://business.stmatthewschamber.com/events/details/dying-to-be-thin-movie-night-someday-melissa-03-13-2013-1430
END:VEVENT

END:VCALENDAR
