BEGIN:VCALENDAR
VERSION:2.0
PRODID:-//ChamberMaster//Event Calendar 2.0//EN
METHOD:PUBLISH
X-PUBLISHED-TTL:P3D
REFRESH-INTERVAL:P3D
CALSCALE:GREGORIAN
BEGIN:VEVENT
DTSTART:20131212T210000Z
DTEND:20131213T000000Z
X-MICROSOFT-CDO-ALLDAYEVENT:FALSE
SUMMARY:Downtown Holiday Marketplace
DESCRIPTION:This event will provide a convenient\, one-stop holiday shopping experience for the Louisville community and our neighbors across the river. The Downtown Holiday Marketplace will highlight our area?s unique attractions and products in a beautiful and festive setting: the Ali Center?s View Pointe Hall\, overlooking the Ohio River. This is event is free to the public. Vendors include: Actors Theatre of Louisville Ah\, Whatta 'Bout Mimi Alter Ego American Printing House for the Blind Art Eatables Clair Raabe Glass Derby Dinner Playhouse Gift Shop Frazier History Museum Gift Shop Kentucky Science Center Gift Shop Louisville Stoneware Muhammad Ali Center Store Muth's Candy Southern Indiana Tourism: The Sunny Side of Louisville We would like to thank Heine Brothers Coffee for providing hot chocolate and coffee free-of-charge to shoppers!
X-ALT-DESC;FMTTYPE=text/html:This event will provide a convenient\, one-stop holiday shopping experience for the Louisville community and our neighbors across the river. The Downtown Holiday Marketplace will highlight our area?s unique attractions and products in a beautiful and festive setting: the Ali Center?s View Pointe Hall\, overlooking the Ohio River. This is event is free to the public. Vendors include: Actors Theatre of Louisville Ah\, Whatta &#39\;Bout Mimi Alter Ego American Printing House for the Blind Art Eatables Clair Raabe Glass Derby Dinner Playhouse Gift Shop Frazier History Museum Gift Shop Kentucky Science Center Gift Shop Louisville Stoneware Muhammad Ali Center Store Muth&#39\;s Candy Southern Indiana Tourism: The Sunny Side of Louisville We would like to thank Heine Brothers Coffee for providing hot chocolate and coffee free-of-charge to shoppers!
LOCATION:Muhammad Ali Center 144 N. Sixth St
UID:e.9037.1638
SEQUENCE:3
DTSTAMP:20260425T214608Z
URL:https://business.stmatthewschamber.com/events/details/downtown-holiday-marketplace-12-12-2013-1638
END:VEVENT

END:VCALENDAR
