BEGIN:VCALENDAR
VERSION:2.0
PRODID:-//ChamberMaster//Event Calendar 2.0//EN
METHOD:PUBLISH
X-PUBLISHED-TTL:P3D
REFRESH-INTERVAL:P3D
CALSCALE:GREGORIAN
BEGIN:VEVENT
DTSTART:20120414T160000Z
DTEND:20120414T210000Z
X-MICROSOFT-CDO-ALLDAYEVENT:FALSE
SUMMARY:Derby on the Square
DESCRIPTION:Visit the Chenoweth Square shopping center to get revved up for the races!\n\n	\n\n	Enjoy our fabulous merchants:\n\n	The Flower Studio - Bedded Bliss - The Seafood Connection - Snips - 3 Dog Bakery - Digs - Cartwheels - Majid's St. Matthews - Paul's Fruit Market\n\n	\n\n	\n\n	Enjoy Samplings of:\n\n	\n\n	Ladyfinger's Catering\n\n	from the famous\n\n	Barnstable Brown Derby Menu\n\n	\n\n	Mint Juleps from\n\n	 Majid's St. Matthews\n\n	\n\n	The official Louie's Derby Cake by Mertz Bakery
X-ALT-DESC;FMTTYPE=text/html:<p>\n	Visit the Chenoweth Square shopping center to get revved up for the races!<br />\n	<br />\n	Enjoy our fabulous merchants:</p>\n<p style="text-align: center\;">\n	The Flower Studio <strong>-</strong> Bedded Bliss <strong>-</strong> The Seafood Connection <strong>-</strong> Snips <strong>-</strong> 3 Dog Bakery <strong>- </strong>Digs <strong>- </strong>Cartwheels <strong>- </strong>Majid&#39\;s St. Matthews <strong>-</strong> Paul&#39\;s Fruit Market</p>\n<p>\n	<br />\n	<br />\n	Enjoy Samplings of:</p>\n<p style="text-align: center\;">\n	<br />\n	<strong>Ladyfinger&#39\;s Catering</strong><br />\n	from the famous<br />\n	<strong>Barnstable Brown Derby Menu</strong><br />\n	<br />\n	<strong>Mint Juleps</strong> from<br />\n	<strong> Majid&#39\;s St. Matthews</strong><br />\n	<br />\n	The official<strong> Louie&#39\;s Derby Cake</strong> by <strong>Mertz Bakery</strong><br />\n	<br />\n	&nbsp\;</p>\n
LOCATION:
UID:e.9037.1060
SEQUENCE:3
DTSTAMP:20260424T152219Z
URL:https://business.stmatthewschamber.com/events/details/derby-on-the-square-04-14-2012-1060
END:VEVENT

END:VCALENDAR
