BEGIN:VCALENDAR
VERSION:2.0
PRODID:-//ChamberMaster//Event Calendar 2.0//EN
METHOD:PUBLISH
X-PUBLISHED-TTL:P3D
REFRESH-INTERVAL:P3D
CALSCALE:GREGORIAN
BEGIN:VEVENT
DTSTART:20140208T153000Z
DTEND:20140208T173000Z
X-MICROSOFT-CDO-ALLDAYEVENT:FALSE
SUMMARY:Crafting Tactile Jewelry
DESCRIPTION:Crafting Tactile Jewelry \n	\n		Learn to make jewelry you can both see and feel\n	\n		Saturday\, February 8\, 2014\, 10:30 a.m. - 12:30 p.m.\n	\n		 \n	Use special tools and techniques to make bracelets\, necklaces\, and pendants from tactile materials. Leave with one completed project and enough knowledge to make many more! Our instructor is Patrice Will\, teaching artist for VSA Arts of Kentucky. Best for ages 12 and up. Free to the public but space is limited so registration is required. Call 502-899-2213 or email kcarpenter@aph.org to register.\n\n	\n\n	http://www.aph.org/museum/saturday_fun.html
X-ALT-DESC;FMTTYPE=text/html:<div>\n	<div>\n		Crafting Tactile Jewelry&nbsp\;</div>\n	<div>\n		Learn to make jewelry you can both see and feel</div>\n	<div>\n		Saturday\, February 8\, 2014\, 10:30 a.m. - 12:30 p.m.</div>\n	<div>\n		&nbsp\;</div>\n	Use special tools and techniques to make bracelets\, necklaces\, and pendants from tactile materials. Leave with one completed project and enough knowledge to make many more! Our instructor is Patrice Will\, teaching artist for VSA Arts of Kentucky. Best for ages 12 and up. Free to the public but space is limited so registration is required. Call 502-899-2213 or email kcarpenter@aph.org to register.</div>\n<div>\n	<br />\n	http://www.aph.org/museum/saturday_fun.html</div>\n
LOCATION:American Printing House for the Blind 1839 Frankfort Avenue Louisville\, KY In the historic Clifton Neighborhood\, Louisville.
UID:e.9037.1704
SEQUENCE:3
DTSTAMP:20260425T235610Z
URL:https://business.stmatthewschamber.com/events/details/crafting-tactile-jewelry-02-08-2014-1704
END:VEVENT

END:VCALENDAR
