BEGIN:VCALENDAR
VERSION:2.0
PRODID:-//ChamberMaster//Event Calendar 2.0//EN
METHOD:PUBLISH
X-PUBLISHED-TTL:P3D
REFRESH-INTERVAL:P3D
CALSCALE:GREGORIAN
BEGIN:VEVENT
DTSTART:20200410T130000Z
DTEND:20200410T160000Z
X-MICROSOFT-CDO-ALLDAYEVENT:FALSE
SUMMARY:COVID-19 Recovery Planning Workshop
DESCRIPTION:Create your plan to move from Surviving to Thriving over the next 90 Days in your business.
X-ALT-DESC;FMTTYPE=text/html:Create your plan to move from Surviving to Thriving over the next 90 Days in your business.<br />\n<br />\n&nbsp\;
LOCATION:Online
UID:e.9037.5674
SEQUENCE:3
DTSTAMP:20260425T153201Z
URL:https://business.stmatthewschamber.com/events/details/covid-19-recovery-planning-workshop-5674
END:VEVENT

END:VCALENDAR
