BEGIN:VCALENDAR
VERSION:2.0
PRODID:-//ChamberMaster//Event Calendar 2.0//EN
METHOD:PUBLISH
X-PUBLISHED-TTL:P3D
REFRESH-INTERVAL:P3D
CALSCALE:GREGORIAN
BEGIN:VEVENT
DTSTART:20120619T220000Z
DTEND:20120620T000000Z
X-MICROSOFT-CDO-ALLDAYEVENT:FALSE
SUMMARY:Covering All the Bases: Treatment Options for MS
DESCRIPTION:Covering All the Bases: Treatment Options for MS\n\n\n\nHear from Norton Neuroscience Institute specialists about the latest advancements in treatment options and therapies for multiple sclerosis.\n\n\n\nJune 19 | 6 - 8 p.m.\n\n\n\nTo register\, call (502) 629-1234.
X-ALT-DESC;FMTTYPE=text/html:<strong>Covering All the Bases: Treatment Options for MS</strong><br />\n<br />\nHear from Norton Neuroscience Institute specialists about the latest advancements in treatment options and therapies for multiple sclerosis.<br />\n<br />\nJune 19 | 6 - 8 p.m.<br />\n<br />\nTo register\, call (502) <strong>629-1234</strong>.
LOCATION:Marshall Women's Health & Education Center Norton Suburban Hospital | Plaza III | Classroom IB
UID:e.9037.1052
SEQUENCE:3
DTSTAMP:20260424T134334Z
URL:https://business.stmatthewschamber.com/events/details/covering-all-the-bases-treatment-options-for-ms-06-19-2012-1052
END:VEVENT

END:VCALENDAR
