BEGIN:VCALENDAR
VERSION:2.0
PRODID:-//ChamberMaster//Event Calendar 2.0//EN
METHOD:PUBLISH
X-PUBLISHED-TTL:P3D
REFRESH-INTERVAL:P3D
CALSCALE:GREGORIAN
BEGIN:VEVENT
DTSTART:20121212T123000Z
DTEND:20121212T140000Z
X-MICROSOFT-CDO-ALLDAYEVENT:FALSE
SUMMARY:Community Pride Breakfast
DESCRIPTION:The St. Matthews community will pay tribute to those who've distinguished themselves by making extraordinary contributions to community betterment through voluntary service. Honorees\, each receives a special 'Community Pride Service Award'\, are selected by civic clubs and other organizations primarily engaged in community service.
X-ALT-DESC;FMTTYPE=text/html:The St. Matthews community will pay tribute to those who&#39\;ve distinguished themselves by making extraordinary contributions to community betterment through voluntary service. Honorees\, each receives a special &#39\;Community Pride Service Award&#39\;\, are selected by civic clubs and other organizations primarily engaged in community service.
LOCATION:
UID:e.9037.1300
SEQUENCE:3
DTSTAMP:20260422T013327Z
URL:https://business.stmatthewschamber.com/events/details/community-pride-breakfast-12-12-2012-1300
END:VEVENT

END:VCALENDAR
