BEGIN:VCALENDAR
VERSION:2.0
PRODID:-//ChamberMaster//Event Calendar 2.0//EN
METHOD:PUBLISH
X-PUBLISHED-TTL:P3D
REFRESH-INTERVAL:P3D
CALSCALE:GREGORIAN
BEGIN:VEVENT
DTSTART:20130420T143000Z
DTEND:20130420T163000Z
X-MICROSOFT-CDO-ALLDAYEVENT:FALSE
SUMMARY:Clifton Neighborhood Walking Tour
DESCRIPTION:Join Historian and Museum Curator\, Mike Hudson\, and Educator Katie Carpenter\, for a walking tour of the Clifton neighborhood\, starting at the historic 1883 building on the grounds of the American Printing House for the Blind. On the two-hour tour\, we'll find evidence of the evolution of the area from a sparsely populated rural community in 1830 to a densely settled urban Louisville neighborhood. The event is free\, but registrations are required. Call 899-2213 by April 18 to register. Best for adults and children 12 and up.\n\n\n\nSaturday\, April 20\, 2013\, 10:30 a.m. - 12:30 p.m.
X-ALT-DESC;FMTTYPE=text/html:Join Historian and Museum Curator\, Mike Hudson\, and Educator Katie Carpenter\, for a walking tour of the Clifton neighborhood\, starting at the historic 1883 building on the grounds of the American Printing House for the Blind. On the two-hour tour\, we&#39\;ll find evidence of the evolution of the area from a sparsely populated rural community in 1830 to a densely settled urban Louisville neighborhood. The event is free\, but registrations are required. Call 899-2213 by April 18 to register. Best for adults and children 12 and up.<br />\n<br />\nSaturday\, April 20\, 2013\, 10:30 a.m. - 12:30 p.m.<br />\n
LOCATION:Walk begins at 10:30 AM\, at The American Printing House for the Blind\, 1839 Frankfort Avenue\, Louisville\, 40206
UID:e.9037.1564
SEQUENCE:3
DTSTAMP:20260425T121438Z
URL:https://business.stmatthewschamber.com/events/details/clifton-neighborhood-walking-tour-04-20-2013-1564
END:VEVENT

END:VCALENDAR
