BEGIN:VCALENDAR
VERSION:2.0
PRODID:-//ChamberMaster//Event Calendar 2.0//EN
METHOD:PUBLISH
X-PUBLISHED-TTL:P3D
REFRESH-INTERVAL:P3D
CALSCALE:GREGORIAN
BEGIN:VEVENT
DTSTART:20120517T220000Z
DTEND:20120518T000000Z
X-MICROSOFT-CDO-ALLDAYEVENT:FALSE
SUMMARY:Circle of Hearts | Mending a Broken Heart
DESCRIPTION:Circle of Hearts\n\nThis series is sponsored by the Norton Women's Heart Center dedicated to educating women about heart disease.\n\n\n\nMending A Broken Heart \n\nHealthful coping tips after a loss.  Also includes a container gardening demonstration.\n\n\n\nThursday\, May 17   6 to 8 p.m.\n\n\n\nTo register\, call (502) 629-1234.
X-ALT-DESC;FMTTYPE=text/html:<strong>Circle of Hearts</strong><br />\nThis series is sponsored by the Norton Women&rsquo\;s Heart Center dedicated to educating women about heart disease.<br />\n<br />\n<strong>Mending A Broken Heart </strong><br />\nHealthful coping tips after a loss.&nbsp\; Also includes a container gardening demonstration.<br />\n<br />\nThursday\, May 17 &ndash\; 6 to 8 p.m.<br />\n<br />\nTo register\, call (502) <strong>629-1234</strong>.<br />\n
LOCATION:Marshall Women's Health & Education Center Norton Suburban Hospital | Plaza III | Classroom IB
UID:e.9037.1044
SEQUENCE:3
DTSTAMP:20260424T134317Z
URL:https://business.stmatthewschamber.com/events/details/circle-of-hearts-mending-a-broken-heart-05-17-2012-1044
END:VEVENT

END:VCALENDAR
