BEGIN:VCALENDAR
VERSION:2.0
PRODID:-//ChamberMaster//Event Calendar 2.0//EN
METHOD:PUBLISH
X-PUBLISHED-TTL:P3D
REFRESH-INTERVAL:P3D
CALSCALE:GREGORIAN
BEGIN:VEVENT
DTSTART:20120419T220000Z
DTEND:20120420T000000Z
X-MICROSOFT-CDO-ALLDAYEVENT:FALSE
SUMMARY:Circle of Hearts | Heart\, Health and Hats
DESCRIPTION:Circle of Hearts\n\nThis series is sponsored by the Norton Women's Heart Center dedicated to educating women about heart disease.\n\n\n\nHearts\, Health and Hats \n\nHow to dine out without wrecking your heart. And\, just in time for the Derby\, learn quick tips to decorating hats.\n\n\n\nThursday\, April 19 - 6 to 8 p.m.\n\n\n\nTo register\, call (502) 629-1234.
X-ALT-DESC;FMTTYPE=text/html:<strong>Circle of Hearts</strong><br />\nThis series is sponsored by the Norton Women&rsquo\;s Heart Center dedicated to educating women about heart disease.<br />\n<br />\n<strong>Hearts\, Health and Hats </strong><br />\nHow to dine out without wrecking your heart. And\, just in time for the Derby\, learn quick tips to decorating hats.<br />\n<br />\nThursday\, April 19 - 6 to 8 p.m.<br />\n<br />\nTo register\, call (502) <strong>629-1234.</strong>
LOCATION:Marshall Women's Health & Education Center Norton Suburban Hospital | Plaza III | Classroom IB
UID:e.9037.1043
SEQUENCE:3
DTSTAMP:20260424T153023Z
URL:https://business.stmatthewschamber.com/events/details/circle-of-hearts-heart-health-and-hats-04-19-2012-1043
END:VEVENT

END:VCALENDAR
