BEGIN:VCALENDAR
VERSION:2.0
PRODID:-//ChamberMaster//Event Calendar 2.0//EN
METHOD:PUBLISH
X-PUBLISHED-TTL:P3D
REFRESH-INTERVAL:P3D
CALSCALE:GREGORIAN
BEGIN:VEVENT
DTSTART:20120621T220000Z
DTEND:20120622T000000Z
X-MICROSOFT-CDO-ALLDAYEVENT:FALSE
SUMMARY:Circle of Hearts
DESCRIPTION:Circle of Hearts\n\nThis series is sponsored by the Norton Women's Heart Center dedicated to educating women about heart disease.\n\n\n\nPicnic in Style | Heart Healthy Picnics\n\nEnjoy summer with your heart healthy picnic. Our chef will cook up the perfect heart-healthy picnic for you to sample. Also kick start your summer with our exercise demonstration.\n\n\n\nThursday\, June 21   6 to 8 p.m.\n\n\n\nTo register\, call (502) 629-1234.
X-ALT-DESC;FMTTYPE=text/html:<strong>Circle of Hearts</strong><br />\nThis series is sponsored by the Norton Women&rsquo\;s Heart Center dedicated to educating women about heart disease.<br />\n<br />\n<strong>Picnic in Style | Heart Healthy Picnics</strong><br />\nEnjoy summer with your heart healthy picnic. Our chef will cook up the perfect heart-healthy picnic for you to sample.&nbsp\;Also kick start your summer with our exercise demonstration.<br />\n<br />\nThursday\, June 21 &ndash\; 6 to 8 p.m.<br />\n<br />\nTo register\, call (502)<strong> 629-1234.</strong><br />\n<br />\n<br />\n<br />\n
LOCATION:Marshall Women's Health & Education Center Norton Suburban Hospital | Plaza III | Classroom IB
UID:e.9037.1045
SEQUENCE:3
DTSTAMP:20260424T134105Z
URL:https://business.stmatthewschamber.com/events/details/circle-of-hearts-06-21-2012-1045
END:VEVENT

END:VCALENDAR
