BEGIN:VCALENDAR
VERSION:2.0
PRODID:-//ChamberMaster//Event Calendar 2.0//EN
METHOD:PUBLISH
X-PUBLISHED-TTL:P3D
REFRESH-INTERVAL:P3D
CALSCALE:GREGORIAN
BEGIN:VEVENT
DTSTART:20131130T140000Z
DTEND:20131130T140000Z
X-MICROSOFT-CDO-ALLDAYEVENT:FALSE
SUMMARY:Chick-fil-A Breakfast with Santa Cow
DESCRIPTION:Christmas Magic Show with David Garrard for kids of all ages.
X-ALT-DESC;FMTTYPE=text/html:Christmas Magic Show with David Garrard for kids of all ages. 
LOCATION:St. Matthews Baptist Church 3515 Grandview Ave. 40207
UID:e.9037.1630
SEQUENCE:3
DTSTAMP:20260425T203502Z
URL:https://business.stmatthewschamber.com/events/details/chick-fil-a-breakfast-with-santa-cow-11-30-2013-1630
END:VEVENT

END:VCALENDAR
