BEGIN:VCALENDAR
VERSION:2.0
PRODID:-//ChamberMaster//Event Calendar 2.0//EN
METHOD:PUBLISH
X-PUBLISHED-TTL:P3D
REFRESH-INTERVAL:P3D
CALSCALE:GREGORIAN
BEGIN:VEVENT
DTSTART;VALUE=DATE:20140109
DTEND;VALUE=DATE:20140110
TRANSP:TRANSPARENT
X-MICROSOFT-CDO-ALLDAYEVENT:TRUE
SUMMARY:Chamber Office Closed
DESCRIPTION:The office is closed for Memorial Day. If you need anything answered\, feel free to email us at chamber@stmatthewschamber.com or leave us a voice mail at 502-899-2523. We will get back to you when we return to the office.
X-ALT-DESC;FMTTYPE=text/html:The office is closed for Memorial Day. If you need anything answered\, feel free to email us at <a href="mailto:chamber@stmatthewschamber.com"><span style="color:#0000ff\;">chamber@stmatthewschamber.com</span></a> or leave us a voice mail at <span style="color:#0000ff\;">502-899-2523</span>. We will get back to you when we return to the office. 
LOCATION:
UID:e.9037.1661
SEQUENCE:3
DTSTAMP:20260425T230058Z
URL:https://business.stmatthewschamber.com/events/details/chamber-office-closed-01-09-2014-1661
END:VEVENT

END:VCALENDAR
