BEGIN:VCALENDAR
VERSION:2.0
PRODID:-//ChamberMaster//Event Calendar 2.0//EN
METHOD:PUBLISH
X-PUBLISHED-TTL:P3D
REFRESH-INTERVAL:P3D
CALSCALE:GREGORIAN
BEGIN:VEVENT
DTSTART:20210813T230000Z
DTEND:20210814T020000Z
X-MICROSOFT-CDO-ALLDAYEVENT:FALSE
SUMMARY:Chamber Night at The Bats
DESCRIPTION:Take me out to ball game.\n\n\n\nWe are so excited for Chamber Night at the Louisville Bats. Join us for a great game while networking with fellow Chamber members. The Bats are playing Nashville.\n\n\n\nIn addition\, our own Josh Suiter is taking on the Bats David Barry in a  Class of 1997 show down. They will each be in bumper balls to see who can cause the other way to fall down first. It's the Butler Bears vs. the Male Bulldogs. Come cheer them on. After the game\, stick around for fireworks.\n\n\n\nAnd it's craft beer night.\n\n\n\nBuy your tickets online at https://fevo.me/stmatthewschamber
X-ALT-DESC;FMTTYPE=text/html:Take me out to ball game.<br />\n<br />\nWe are so excited for Chamber Night at the Louisville Bats. Join us for a great game while networking with fellow Chamber members. The Bats are playing Nashville.<br />\n<br />\nIn addition\, our own Josh Suiter is taking on the Bats David Barry in a&nbsp\; Class of 1997 show down. They will each be in bumper balls to see who can cause the other way to fall down first. It&#39\;s the Butler Bears vs. the Male Bulldogs. Come cheer them on. After the game\, stick around for fireworks.<br />\n<br />\nAnd it&#39\;s craft beer night.<br />\n<br />\nBuy your tickets online at&nbsp\;<span style="color:black\;"><span style="font-family:arial\,sans-serif\;"><span style="font-size:8.0pt\;"><a href="https://fevo.me/stmatthewschamber">https://fevo.me/stmatthewschamber</a></span></span></span>
LOCATION:Louisville Slugger Field 401 E. Main St. Louisville\, KY 40202
UID:e.9037.6244
SEQUENCE:3
DTSTAMP:20260420T115819Z
URL:https://business.stmatthewschamber.com/events/details/chamber-night-at-the-bats-6244
END:VEVENT

END:VCALENDAR
