BEGIN:VCALENDAR
VERSION:2.0
PRODID:-//ChamberMaster//Event Calendar 2.0//EN
METHOD:PUBLISH
X-PUBLISHED-TTL:P3D
REFRESH-INTERVAL:P3D
CALSCALE:GREGORIAN
BEGIN:VEVENT
DTSTART:20120426T120000Z
DTEND:20120426T133000Z
X-MICROSOFT-CDO-ALLDAYEVENT:FALSE
SUMMARY:Business Program Committee Meeting
DESCRIPTION:The Business Programs Committee is charged with creating and enhancing networking programs for Chamber members.  This is our monthly meeting to plan those programs\, as well as the recurring meeting for the SYNERGY directors.
X-ALT-DESC;FMTTYPE=text/html:<span style="font-family:calibri\,sans-serif\;"><span style="font-size:11.0pt\;">The Business Programs Committee is charged with creating and enhancing networking programs for Chamber members.&nbsp\; This is our monthly meeting to plan those programs\, as well as the recurring meeting for the SYNERGY directors.</span></span> 
LOCATION:
UID:e.9037.241
SEQUENCE:3
DTSTAMP:20260424T123440Z
URL:https://business.stmatthewschamber.com/events/details/business-program-committee-meeting-04-26-2012-241
END:VEVENT

END:VCALENDAR
