BEGIN:VCALENDAR
VERSION:2.0
PRODID:-//ChamberMaster//Event Calendar 2.0//EN
METHOD:PUBLISH
X-PUBLISHED-TTL:P3D
REFRESH-INTERVAL:P3D
CALSCALE:GREGORIAN
BEGIN:VEVENT
DTSTART;VALUE=DATE:20120322
DTEND;VALUE=DATE:20120323
TRANSP:TRANSPARENT
X-MICROSOFT-CDO-ALLDAYEVENT:TRUE
SUMMARY:Business Program Committee Meeting
DESCRIPTION:This will be an ongoing meeting each month as once the power teams are established\, we will be working on other Business programs.  Thanks so much!
X-ALT-DESC;FMTTYPE=text/html:<span style="font-size: medium"><span style="font-family: calibri">This will be an ongoing meeting each month as once the power teams are established\, we will be working on other Business programs.&nbsp\; Thanks so much!&nbsp\;</span></span><br />\n
LOCATION:
UID:e.9037.240
SEQUENCE:3
DTSTAMP:20260424T163451Z
URL:https://business.stmatthewschamber.com/events/details/business-program-committee-meeting-03-22-2012-240
END:VEVENT

END:VCALENDAR
