BEGIN:VCALENDAR
VERSION:2.0
PRODID:-//ChamberMaster//Event Calendar 2.0//EN
METHOD:PUBLISH
X-PUBLISHED-TTL:P3D
REFRESH-INTERVAL:P3D
CALSCALE:GREGORIAN
BEGIN:VEVENT
DTSTART;VALUE=DATE:20120223
DTEND;VALUE=DATE:20120224
TRANSP:TRANSPARENT
X-MICROSOFT-CDO-ALLDAYEVENT:TRUE
SUMMARY:Business Program Committee Meeting
DESCRIPTION:This will be an ongoing meeting each month as once the power teams are established\, we will be working on other Business programs.  Thanks so much!
X-ALT-DESC;FMTTYPE=text/html:<span style="font-size: medium"><span style="font-family: calibri">This will be an ongoing meeting each month as once the power teams are established\, we will be working on other Business programs.&nbsp\; Thanks so much!&nbsp\;</span></span><br />\n
LOCATION:
UID:e.9037.239
SEQUENCE:3
DTSTAMP:20260424T155418Z
URL:https://business.stmatthewschamber.com/events/details/business-program-committee-meeting-02-23-2012-239
END:VEVENT

END:VCALENDAR
