BEGIN:VCALENDAR
VERSION:2.0
PRODID:-//ChamberMaster//Event Calendar 2.0//EN
METHOD:PUBLISH
X-PUBLISHED-TTL:P3D
REFRESH-INTERVAL:P3D
CALSCALE:GREGORIAN
BEGIN:VEVENT
DTSTART:20120719T190000Z
DTEND:20120719T220000Z
X-MICROSOFT-CDO-ALLDAYEVENT:FALSE
SUMMARY:Business Expo
DESCRIPTION:The St. Matthews Area Chamber of Commerce Business Expo is a "Sampling" of over 80 exhibitors of business and financial services\, medical and health services\, manufacturers and distributors\, office products and equipment\, technology and many\, many more services and businesses. The Business Expo offers the Chamber business members a low-cost method for reaching a variety of potential customers and other participating members to help expand your business. Take this opportunity to "CONNECT" your business.\n\n	This is STRICTLY Business to Business to enter you must have your business card.
X-ALT-DESC;FMTTYPE=text/html:<p>\n	<strong>The St. Matthews Area Chamber of Commerce&nbsp\;Business Expo</strong> is a &ldquo\;Sampling&rdquo\; of over 80 exhibitors of business and financial services\, medical and health services\, manufacturers and distributors\, office products and equipment\, technology and many\, many more services and businesses. The Business Expo offers&nbsp\;the Chamber&nbsp\;business members a low-cost method for reaching a variety of potential customers and other participating members to help expand your business. Take this opportunity to &ldquo\;CONNECT&rdquo\; your business.</p>\n<p>\n	<span style="font-family:arial\;"><span style="font-size: 16px\;"><strong><span style="color: rgb(255\, 0\, 0)\;">This is STRICTLY Business to Business to enter you must have your business card.</span></strong></span></span></p>\n
LOCATION:
UID:e.9037.100
SEQUENCE:3
DTSTAMP:20260422T093531Z
URL:https://business.stmatthewschamber.com/events/details/business-expo-07-19-2012-100
END:VEVENT

END:VCALENDAR
