BEGIN:VCALENDAR
VERSION:2.0
PRODID:-//ChamberMaster//Event Calendar 2.0//EN
METHOD:PUBLISH
X-PUBLISHED-TTL:P3D
REFRESH-INTERVAL:P3D
CALSCALE:GREGORIAN
BEGIN:VEVENT
DTSTART:20130718T170000Z
DTEND:20130718T200000Z
X-MICROSOFT-CDO-ALLDAYEVENT:FALSE
SUMMARY:Business Expo
DESCRIPTION:2013 Marks the 21st Year for this Event\n\n	Thursday\, July 18\, 2013\n\n	1:00 pm - 4:00 pm\n\n	 \n\n	The Business Expo is the Chamber's annual trade show and networking event designed to give Chamber members affordable access to the business community. Always a fun and dynamic program\, the Business Expo is a cost-efficient and easy way to get new business and renew existing business relationships.\n\n	\n\n	Exhibitors run the gamut and include service industries\, banks and financial institutions\, retailers\, office equipment\, health-related industries\, tourist attractions\, educational institutions and variety of other businesses. In addition\, the event offers plenty of networking. \n\n	 \n\n	As a member you are invited to exhibit at the Business Expo. There will be 70 exhibitors and chances for you to obtain local exposure and valuable leads and contacts. This is strictly Business to Business\, to enter you must have a business card with you. Our Business Expo has something to offer to every business!
X-ALT-DESC;FMTTYPE=text/html:<p style="margin: 0px\; padding: 0px\; border: 0px\; outline: 0px\; font-size: 16px\; font-family: Calibri\, Verdana\, Geneva\, sans-serif\; color: rgb(0\, 0\, 0)\; line-height: 22px\; text-align: center\;">\n	<strong style="margin: 0px\; padding: 0px\; border: 0px\; outline: 0px\;">2013 Marks the 21st Year for this Event</strong></p>\n<p style="margin: 0px\; padding: 0px\; border: 0px\; outline: 0px\; font-size: 16px\; font-family: Calibri\, Verdana\, Geneva\, sans-serif\; color: rgb(0\, 0\, 0)\; line-height: 22px\; text-align: center\;">\n	Thursday\, July 18\, 2013</p>\n<p style="margin: 0px\; padding: 0px\; border: 0px\; outline: 0px\; font-size: 16px\; font-family: Calibri\, Verdana\, Geneva\, sans-serif\; color: rgb(0\, 0\, 0)\; line-height: 22px\; text-align: center\;">\n	1:00 pm - 4:00 pm</p>\n<p style="margin: 0px\; padding: 0px\; border: 0px\; outline: 0px\; font-size: 16px\; font-family: Calibri\, Verdana\, Geneva\, sans-serif\; color: rgb(0\, 0\, 0)\; line-height: 22px\; text-align: center\;">\n	&nbsp\;</p>\n<p style="margin: 0px\; padding: 0px\; border: 0px\; outline: 0px\; font-size: 16px\; font-family: Calibri\, Verdana\, Geneva\, sans-serif\; color: rgb(0\, 0\, 0)\; line-height: 22px\; text-align: center\;">\n	The Business Expo is the Chamber&#39\;s annual trade show and networking event designed to give Chamber members affordable access to the business community. Always a fun and dynamic program\, the Business Expo is a cost-efficient and easy way to get new business and renew existing business relationships.<br />\n	<br />\n	Exhibitors run the gamut and include service industries\, banks and financial institutions\, retailers\, office equipment\, health-related industries\, tourist attractions\, educational institutions and variety of other businesses. In addition\, the event offers&nbsp\;plenty of networking.&nbsp\;<br />\n	&nbsp\;</p>\n<p style="margin: 0px\; padding: 0px\; border: 0px\; outline: 0px\; font-size: 16px\; font-family: Calibri\, Verdana\, Geneva\, sans-serif\; color: rgb(0\, 0\, 0)\; line-height: 22px\; text-align: center\;">\n	As a member you are invited to exhibit at the Business Expo. There will be 70 exhibitors and chances for you to obtain local exposure and valuable leads and contacts.&nbsp\;<strong style="margin: 0px\; padding: 0px\; border: 0px\; outline: 0px\;">This is strictly Business to Business\, to enter you must have a business card with you.</strong>&nbsp\;Our Business Expo has something to offer to every business!</p>\n
LOCATION:Trinity High School Cafeteria 4011 Shelbyville Road Louisville\, KY 40207
UID:e.9037.1363
SEQUENCE:3
DTSTAMP:20260421T141514Z
URL:https://business.stmatthewschamber.com/events/details/business-expo-07-18-2013-1363
END:VEVENT

END:VCALENDAR
