BEGIN:VCALENDAR
VERSION:2.0
PRODID:-//ChamberMaster//Event Calendar 2.0//EN
METHOD:PUBLISH
X-PUBLISHED-TTL:P3D
REFRESH-INTERVAL:P3D
CALSCALE:GREGORIAN
BEGIN:VEVENT
DTSTART:20120206T210000Z
DTEND:20120206T230000Z
X-MICROSOFT-CDO-ALLDAYEVENT:FALSE
SUMMARY:Bruegger's Baked Fresh Ribbon Cutting
DESCRIPTION:Stop in and enjoy a complimentary sandwich and beverage as Bruegger's Baked Fresh celebrates it's ribbon cutting event!
X-ALT-DESC;FMTTYPE=text/html:Stop in and enjoy a complimentary sandwich and beverage as Bruegger&#39\;s Baked Fresh celebrates it&#39\;s ribbon cutting event!
LOCATION:Bruegger's Baked Fressh St. Matthews 119 Breckenridge Lane (at corner of Shelbyville Road and Breckenridge Lane) 502-618-1158
UID:e.9037.949
SEQUENCE:3
DTSTAMP:20260424T180905Z
URL:https://business.stmatthewschamber.com/events/details/bruegger-s-baked-fresh-ribbon-cutting-02-06-2012-949
END:VEVENT

END:VCALENDAR
