BEGIN:VCALENDAR
VERSION:2.0
PRODID:-//ChamberMaster//Event Calendar 2.0//EN
METHOD:PUBLISH
X-PUBLISHED-TTL:P3D
REFRESH-INTERVAL:P3D
CALSCALE:GREGORIAN
BEGIN:VEVENT
DTSTART:20120425T180000Z
DTEND:20120425T200000Z
X-MICROSOFT-CDO-ALLDAYEVENT:FALSE
SUMMARY:Breath of Life II Support Group at Baptist East/Milestone Wellness Center
DESCRIPTION:The Breath of Life II support group will learn about medication for effective COPD management at 2 p.m. on Wednesday\, April 25 at the Baptist East/Milestone Wellness Center\, located at 750 Cypress Station Drive. COPD\, chronic obstructive pulmonary disorder\, makes it difficult to breathe. For more information about the group\, including a brochure on upcoming sessions\, call the Baptist East Respiratory Care department at (502) 897-8134.
X-ALT-DESC;FMTTYPE=text/html:The Breath of Life II support group will learn about medication for effective COPD management at 2 p.m. on Wednesday\, April 25 at the Baptist East/Milestone Wellness Center\, located at 750 Cypress Station Drive. COPD\, chronic obstructive pulmonary disorder\, makes it difficult to breathe. For more information about the group\, including a brochure on upcoming sessions\, call the Baptist East Respiratory Care department at (502) 897-8134.
LOCATION:Baptist East/Milestone Wellness Center\, located at 750 Cypress Station Drive.
UID:e.9037.1015
SEQUENCE:3
DTSTAMP:20260424T164016Z
URL:https://business.stmatthewschamber.com/events/details/breath-of-life-ii-support-group-at-baptist-east-milestone-wellness-center-04-25-2012-1015
END:VEVENT

END:VCALENDAR
