BEGIN:VCALENDAR
VERSION:2.0
PRODID:-//ChamberMaster//Event Calendar 2.0//EN
METHOD:PUBLISH
X-PUBLISHED-TTL:P3D
REFRESH-INTERVAL:P3D
CALSCALE:GREGORIAN
BEGIN:VEVENT
DTSTART:20120328T180000Z
DTEND:20120328T200000Z
X-MICROSOFT-CDO-ALLDAYEVENT:FALSE
SUMMARY:Breath of Life II Support Group at Baptist East/Milestone Wellness Center
DESCRIPTION:Breath of Life support group members will learn about end-of-life decision-making at 2 p.m. Wednesday\, March 28 at the Baptist East/Milestone Wellness Center\, at 750 Cypress Station Drive.\n\nBaptist East Vice President and Chief Medical Officer Kenneth Anderson\, MD\, will speak on "The Choices You Might Make Regarding End-of-life Options." Dr. Anderson\, a pulmonologist\, has been involved both as an intensivist (caring for critically ill patients) and consulting with families with loved ones in palliative care (comfort care where a cure is not expected).\n\nCOPD (chronic obstructive pulmonary disorder) is the fourth leading cause of death in the United States. COPD describes a group of diseases (including emphysema\, chronic bronchitis and asthmatic bronchitis) that makes it difficult to breathe because they partially block the normal flow of air into and out of a person's lungs. COPD usually takes many years to develop before shortness of breath becomes enough of a problem that a person needs help breathing.\n\nBreath of Life is a support group that typically meets at 2 p.m. on the fourth Wednesday of each month in Room 2 on the Wellness Center's first floor. Meetings usually include a short educational session and time for sharing.\n\nFor more information about the group\, including a brochure on upcoming sessions\, call the Baptist East Respiratory Care department at (502) 897-8134.
X-ALT-DESC;FMTTYPE=text/html:Breath of Life support group members will learn about end-of-life decision-making at 2 p.m. Wednesday\, March 28 at the Baptist East/Milestone Wellness Center\, at 750 Cypress Station Drive.<br />\nBaptist East Vice President and Chief Medical Officer Kenneth Anderson\, MD\, will speak on &ldquo\;The Choices You Might Make Regarding End-of-life Options.&rdquo\; Dr. Anderson\, a pulmonologist\, has been involved both as an intensivist (caring for critically ill patients) and consulting with families with loved ones in palliative care (comfort care where a cure is not expected).<br />\nCOPD (chronic obstructive pulmonary disorder) is the fourth leading cause of death in the United States. COPD describes a group of diseases (including emphysema\, chronic bronchitis and asthmatic bronchitis) that makes it difficult to breathe because they partially block the normal flow of air into and out of a person&#39\;s lungs. COPD usually takes many years to develop before shortness of breath becomes enough of a problem that a person needs help breathing.<br />\nBreath of Life is a support group that typically meets at 2 p.m. on the fourth Wednesday of each month in Room 2 on the Wellness Center&#39\;s first floor. Meetings usually include a short educational session and time for sharing.<br />\nFor more information about the group\, including a brochure on upcoming sessions\, call the Baptist East Respiratory Care department at (502) 897-8134.<br />\n
LOCATION:Baptist East/Milestone Wellness Center\, at 750 Cypress Station Drive.
UID:e.9037.1005
SEQUENCE:3
DTSTAMP:20260424T164024Z
URL:https://business.stmatthewschamber.com/events/details/breath-of-life-ii-support-group-at-baptist-east-milestone-wellness-center-03-28-2012-1005
END:VEVENT

END:VCALENDAR
