BEGIN:VCALENDAR
VERSION:2.0
PRODID:-//ChamberMaster//Event Calendar 2.0//EN
METHOD:PUBLISH
X-PUBLISHED-TTL:P3D
REFRESH-INTERVAL:P3D
CALSCALE:GREGORIAN
BEGIN:VEVENT
DTSTART:20120320T230000Z
DTEND:20120321T000000Z
X-MICROSOFT-CDO-ALLDAYEVENT:FALSE
SUMMARY:Breast Cancer Genetic Testing: Is It Right for You? at Baptist Hospital East
DESCRIPTION:Those with a personal link to breast or ovarian cancer will be particularly interested in learning about "Breast Cancer Genetic Testing: Is It Right for You?" Pamela Brock\, who provides cancer genetic counseling services at Baptist Hospital East\, will go into more detail about the benefits and limitations of genetic testing\, why counseling is essential\, and health insurance concerns. The talk will be from 7-8 p.m. Tuesday\, March 20 in Baptist East's second-floor auditorium. Reserve your seat by calling the Baptist East Information Center at (502) 897-8131.
X-ALT-DESC;FMTTYPE=text/html:Those with a personal link to breast or ovarian cancer will be particularly interested in learning about &ldquo\;Breast Cancer Genetic Testing: Is It Right for You?&rdquo\; Pamela Brock\, who provides cancer genetic counseling services at Baptist Hospital East\, will go into more detail about the benefits and limitations of genetic testing\, why counseling is essential\, and health insurance concerns. The talk will be from 7-8 p.m. Tuesday\, March 20 in Baptist East&rsquo\;s second-floor auditorium. Reserve your seat by calling the Baptist East Information Center at (502) 897-8131.
LOCATION:Baptist Hospital East?s second-floor auditorium\, 4000 Kresge Way
UID:e.9037.1006
SEQUENCE:3
DTSTAMP:20260424T164048Z
URL:https://business.stmatthewschamber.com/events/details/breast-cancer-genetic-testing-is-it-right-for-you-at-baptist-hospital-east-03-20-2012-1006
END:VEVENT

END:VCALENDAR
