BEGIN:VCALENDAR
VERSION:2.0
PRODID:-//ChamberMaster//Event Calendar 2.0//EN
METHOD:PUBLISH
X-PUBLISHED-TTL:P3D
REFRESH-INTERVAL:P3D
CALSCALE:GREGORIAN
BEGIN:VEVENT
DTSTART:20120418T230000Z
DTEND:20120419T003000Z
X-MICROSOFT-CDO-ALLDAYEVENT:FALSE
SUMMARY:Brain Injury Support Group at Baptist Hospital East
DESCRIPTION:The Brain Injury Support Group will meet from 7-8:30 p.m. on Wednesday\, April 18 at Baptist Hospital East's second-floor Education Center (Classroom 2A)\, 4000 Kresge Way. The program is free. For more information\, or to receive meeting notices\, call the Baptist East Rehabilitation Program at (502) 896-7441.
X-ALT-DESC;FMTTYPE=text/html:The Brain Injury Support Group will meet from 7-8:30 p.m. on Wednesday\, April 18 at Baptist Hospital East&rsquo\;s second-floor Education Center (Classroom 2A)\, 4000 Kresge Way. The program is free. For more information\, or to receive meeting notices\, call the Baptist East Rehabilitation Program at (502) 896-7441.
LOCATION:Baptist Hospital East?s second-floor Education Center (Classroom 2A)\, 4000 Kresge Way.
UID:e.9037.1014
SEQUENCE:3
DTSTAMP:20260424T153321Z
URL:https://business.stmatthewschamber.com/events/details/brain-injury-support-group-at-baptist-hospital-east-04-18-2012-1014
END:VEVENT

END:VCALENDAR
