BEGIN:VCALENDAR
VERSION:2.0
PRODID:-//ChamberMaster//Event Calendar 2.0//EN
METHOD:PUBLISH
X-PUBLISHED-TTL:P3D
REFRESH-INTERVAL:P3D
CALSCALE:GREGORIAN
BEGIN:VEVENT
DTSTART:20130615T143000Z
DTEND:20130615T163000Z
X-MICROSOFT-CDO-ALLDAYEVENT:FALSE
SUMMARY:BRAILLE FOR THE SIGHTED: WORKSHOPS FOR YOUNG PEOPLE JUNE 2013
DESCRIPTION:Young people will be inspired by the story of Louis Braille\, who was only twelve years old when he began work on the writing system that changed the lives of blind people all over the world. They'll learn the basics of Louis's alphabet and practice writing on a braille slate and a braillewriter. Advanced students will learn more about braille contractions and whole word signs\, as well as how to write music and do math with braille. Participants may attend one session\, two sessions\, or all three! Admission is free\, but registration is required. Best for children ages 8-14.
X-ALT-DESC;FMTTYPE=text/html:<p>\n	Young people will be inspired by the story of Louis Braille\, who was only twelve years old when he began work on the writing system that changed the lives of blind people all over the world. They&#39\;ll learn the basics of Louis&#39\;s alphabet and practice writing on a braille slate and a braillewriter. Advanced students will learn more about braille contractions and whole word signs\, as well as how to write music and do math with braille. Participants may attend one session\, two sessions\, or all three! Admission is free\, but registration is required. Best for children ages 8-14.</p>\n
LOCATION:Museum of the American Printing House for the Blind 1839 Frankfort Ave. Louisville\, KY 40206
UID:e.9037.1588
SEQUENCE:3
DTSTAMP:20260425T145854Z
URL:https://business.stmatthewschamber.com/events/details/braille-for-the-sighted-workshops-for-young-people-june-2013-06-15-2013-1588
END:VEVENT

END:VCALENDAR
