BEGIN:VCALENDAR
VERSION:2.0
PRODID:-//ChamberMaster//Event Calendar 2.0//EN
METHOD:PUBLISH
X-PUBLISHED-TTL:P3D
REFRESH-INTERVAL:P3D
CALSCALE:GREGORIAN
BEGIN:VEVENT
DTSTART:20120607T230000Z
DTEND:20120608T000000Z
X-MICROSOFT-CDO-ALLDAYEVENT:FALSE
SUMMARY:Book Chats | Heal Your Headache
DESCRIPTION:Book Chats\n\nJoin us for a discussion of interesting health-related books. Book chats will be led by a physician who will discuss the selected book and highlight key points. It is recommended that attendees review the book prior to attendance.\n\n\n\nHeal Your Headache: The 1-2-3 Program for Taking Charge of Your Pain by David Buchholz. This book provides practical tips for controlling and managing headaches. This discussion will be led by Brian Plato\, D.O.\n\n\n\nJune 7\, Thursday   7 to 8 p.m.\n\n\n\nTo register\, call (502) 629-1234.
X-ALT-DESC;FMTTYPE=text/html:<strong>Book Chats</strong><br />\nJoin us for a discussion of interesting health-related books. Book chats will be led by a physician who will discuss the selected book and highlight key points. It is recommended that attendees review the book prior to attendance.<br />\n<br />\n<em><strong>Heal Your Headache: The 1-2-3 Program for Taking Charge of Your Pain</strong></em> by David Buchholz. This book provides practical tips for controlling and managing headaches. This discussion will be led by Brian Plato\, D.O.<br />\n<br />\nJune 7\, Thursday &ndash\; 7 to 8 p.m.<br />\n<br />\nTo register\, call (502) <strong>629-1234</strong>.<br />\n<br />\n
LOCATION:Marshall Women's Health & Education Center Norton Suburban Hospital | Plaza III | Suite 108
UID:e.9037.1048
SEQUENCE:3
DTSTAMP:20260424T133316Z
URL:https://business.stmatthewschamber.com/events/details/book-chats-heal-your-headache-06-07-2012-1048
END:VEVENT

END:VCALENDAR
