BEGIN:VCALENDAR
VERSION:2.0
PRODID:-//ChamberMaster//Event Calendar 2.0//EN
METHOD:PUBLISH
X-PUBLISHED-TTL:P3D
REFRESH-INTERVAL:P3D
CALSCALE:GREGORIAN
BEGIN:VEVENT
DTSTART:20120426T230000Z
DTEND:20120427T000000Z
X-MICROSOFT-CDO-ALLDAYEVENT:FALSE
SUMMARY:Book Chat | "The DASH Diet Action Plan"
DESCRIPTION:Book Chats\n\nJoin us for a discussion of interesting health-related books. Book chats will be led by a physician who will discuss the selected book and highlight key points. It is recommended that attendees review the book prior to attendance.\n\n\n\nThe Dash Diet Action Plan by Marla Heller\, MS\, RD. The DASH diet is a lifestyle modification plan for people to control hypertension and pre-hypertension through diet\, exercise and weight loss. This discussion will be led by Deborah Ballard\, M.D.\n\n\n\nApril 26\, Thursday   7 to 8 p.m.\n\n\n\n\n\nTo register\, call (502) 629-1234.
X-ALT-DESC;FMTTYPE=text/html:<strong>Book Chats</strong><br />\nJoin us for a discussion of interesting health-related books. Book chats will be led by a physician who will discuss the selected book and highlight key points. It is recommended that attendees review the book prior to attendance.<br />\n<br />\n<strong><em>The Dash Diet Action Plan</em> </strong>by Marla Heller\, MS\, RD. The DASH diet is a lifestyle modification plan for people to control hypertension and pre-hypertension through diet\, exercise and weight loss. This discussion will be led by Deborah Ballard\, M.D.<br />\n<br />\nApril 26\, Thursday &ndash\; 7 to 8 p.m.<br />\n<br />\n<br />\nTo register\, call (502)<strong> 629-1234.</strong>
LOCATION:Marshall Women's Health & Education Center Norton Suburban Hospital | Plaza III | Suite 108
UID:e.9037.1047
SEQUENCE:3
DTSTAMP:20260424T152218Z
URL:https://business.stmatthewschamber.com/events/details/book-chat-the-dash-diet-action-plan-04-26-2012-1047
END:VEVENT

END:VCALENDAR
