BEGIN:VCALENDAR
VERSION:2.0
PRODID:-//ChamberMaster//Event Calendar 2.0//EN
METHOD:PUBLISH
X-PUBLISHED-TTL:P3D
REFRESH-INTERVAL:P3D
CALSCALE:GREGORIAN
BEGIN:VEVENT
DTSTART:20130615T170000Z
DTEND:20130615T193000Z
X-MICROSOFT-CDO-ALLDAYEVENT:FALSE
SUMMARY:Bones for Life: Exploring Your Inner Architecture with Peter Buecker
DESCRIPTION:The perfection of nature's design is evident everywhere\, from the tiniest snowflake to the\n\n\n	\n		\n			Grand Canyon. Why should we expect our own design to be any less of a wonder? We walk\, run\,\n\n			jump\, swim and dance our way through life\, and often forget how remarkable it is to be vertical!\n\n			Standing on two feet\, so small by comparison to our height\, we defy the odds. This feat of\n\n			engineering is only possible because of our own exquisite inner architecture.\n\n			We instinctively understand that good posture\, self-awareness and the ability to move freely\n\n			without pain are primary aspects of good health. Bones for Life\, an internationally known method\n\n			which yields painless and immediate results\, is a non-invasive approach to solving common health\n\n			problems related to posture\, self-image and mobility.\n		\n			 \n		\n			~ WHAT TO EXPECT\n\n			  Learn and practice three profound lessons that will immediately alter your posture\n\n			  Become familiar with 'exercises' you can take home and use for the rest of your life\n\n			  Explore an approach to learning that is gentle and at the same time profoundly effective\n\n			  Go away feeling relaxed and energized by the experience.\n\n			  Designed to benefit both absolute beginners and sophisticated movement professionals\n		\n			 \n		\n			~ MERIAH KRUSE\, Guild Certified Feldenkrais Practitioner \, Bones for Life  Teacher (pending)\n\n			Since 1982 Meriah Kruse has been on a great adventure: creating opportunities for all kinds of\n\n			people to move\, learn\, create\, explore\, evolve\, have fun\, and be healthy. She has an eclectic\n\n			background -- over 30 years in dance\, creative writing\, somatic education\, therapeutic massage\,\n\n			cultural arts programming\, spiritual studies\, and adventure travel. Meriah is the author of the\n\n			upcoming book\, "OPTIMISTIC AGING : Proven NEW Strategies for Feeling Younger at Any Age ."
X-ALT-DESC;FMTTYPE=text/html:The perfection of nature&#39\;s design is evident everywhere\, from the tiniest snowflake to the<br />\n<div class="group">\n	<div class="description userHTML">\n		<div>\n			Grand Canyon. Why should we expect our own design to be any less of a wonder? We walk\, run\,<br />\n			jump\, swim and dance our way through life\, and often forget how remarkable it is to be vertical!<br />\n			Standing on two feet\, so small by comparison to our height\, we defy the odds. This feat of<br />\n			engineering is only possible because of our own exquisite inner architecture.<br />\n			We instinctively understand that good posture\, self-awareness and the ability to move freely<br />\n			without pain are primary aspects of good health. Bones for Life\, an internationally known method<br />\n			which yields painless and immediate results\, is a non-invasive approach to solving common health<br />\n			problems related to posture\, self-image and mobility.</div>\n		<div>\n			&nbsp\;</div>\n		<div>\n			~ WHAT TO EXPECT<br />\n			&bull\; Learn and practice three profound lessons that will immediately alter your posture<br />\n			&bull\; Become familiar with &lsquo\;exercises&rsquo\; you can take home and use for the rest of your life<br />\n			&bull\; Explore an approach to learning that is gentle and at the same time profoundly effective<br />\n			&bull\; Go away feeling relaxed and energized by the experience.<br />\n			&bull\; Designed to benefit both absolute beginners and sophisticated movement professionals</div>\n		<div>\n			&nbsp\;</div>\n		<div>\n			~ MERIAH KRUSE\, Guild Certified Feldenkrais Practitioner&reg\;\, Bones for Life&copy\; Teacher (pending)<br />\n			Since 1982 Meriah Kruse has been on a great adventure: creating opportunities for all kinds of<br />\n			people to move\, learn\, create\, explore\, evolve\, have fun\, and be healthy. She has an eclectic<br />\n			background -- over 30 years in dance\, creative writing\, somatic education\, therapeutic massage\,<br />\n			cultural arts programming\, spiritual studies\, and adventure travel. Meriah is the author of the<br />\n			upcoming book\, &ldquo\;OPTIMISTIC AGING&trade\;: Proven NEW Strategies for Feeling Younger at Any Age&copy\;.&rdquo\;</div>\n	</div>\n</div>\n
LOCATION:Wellness 360 241 Sears Ave Louisville\, KY
UID:e.9037.1584
SEQUENCE:3
DTSTAMP:20260425T145033Z
URL:https://business.stmatthewschamber.com/events/details/bones-for-life-exploring-your-inner-architecture-with-peter-buecker-06-15-2013-1584
END:VEVENT

END:VCALENDAR
