BEGIN:VCALENDAR
VERSION:2.0
PRODID:-//ChamberMaster//Event Calendar 2.0//EN
METHOD:PUBLISH
X-PUBLISHED-TTL:P3D
REFRESH-INTERVAL:P3D
CALSCALE:GREGORIAN
BEGIN:VEVENT
DTSTART:20140507T113000Z
DTEND:20140507T130000Z
X-MICROSOFT-CDO-ALLDAYEVENT:FALSE
SUMMARY:Board of Directors Meeting
DESCRIPTION:
X-ALT-DESC;FMTTYPE=text/html:
LOCATION:
UID:e.9037.1656
SEQUENCE:3
DTSTAMP:20260426T032905Z
URL:https://business.stmatthewschamber.com/events/details/board-of-directors-meeting-05-07-2014-1656
END:VEVENT

END:VCALENDAR
