BEGIN:VCALENDAR
VERSION:2.0
PRODID:-//ChamberMaster//Event Calendar 2.0//EN
METHOD:PUBLISH
X-PUBLISHED-TTL:P3D
REFRESH-INTERVAL:P3D
CALSCALE:GREGORIAN
BEGIN:VEVENT
DTSTART:20190720T140000Z
DTEND:20190720T230000Z
X-MICROSOFT-CDO-ALLDAYEVENT:FALSE
SUMMARY:Blood\, Bourbon and Beyond!
DESCRIPTION:Kentucky Blood Center and Summit Media are teaming up to send one lucky blood donor and a guest to Bourbon & Beyond. Donate at Hillview or Middletown Donor Center July 16-20 to be entered to win two weekend passes to Bourbon & Beyond\, happening Sept. 20-22 in Louisville. The lineup includes huge artists such as Foo Fighters\, John Fogerty\, ZZ Top\, Zac Brown Band\, and many more.\n\nJoin us at Hillview Donor Center on Friday\, July 19 from 11 am-1 pm for a live radio remote with Regular Laura from 107.7 The Eagle.
X-ALT-DESC;FMTTYPE=text/html:<p>Kentucky Blood Center and Summit Media are teaming up to send one lucky blood donor and a guest to Bourbon &amp\; Beyond. Donate at Hillview or Middletown Donor Center July 16-20 to be entered to win two weekend passes to Bourbon &amp\; Beyond\, happening Sept. 20-22 in Louisville. The lineup includes huge artists such as Foo Fighters\, John Fogerty\, ZZ Top\, Zac Brown Band\, and many more.</p>\n\n<p>Join us at Hillview Donor Center on Friday\, July 19 from 11 am-1 pm for a live radio remote with Regular Laura from 107.7 The Eagle.</p>\n\n<p>&nbsp\;</p>\n
LOCATION:Hillview Donor Center 5406 Antle Dr. Louisville\, KY 40229 off Preston Hwy.\, behind Speedway and across Antle Dr. from Walmart 502.915.0989 Make an Appointment at Hillview Donor Center Middletown Donor Center 12905 Shelbyville Rd. Louisville\, KY 40243 Near Target\, Walmart and Buffalo Wild Wings 502.290.0537 Make an Appointment at Middletown Donor Center
UID:e.9037.5588
SEQUENCE:3
DTSTAMP:20260426T012101Z
URL:https://business.stmatthewschamber.com/events/details/blood-bourbon-and-beyond-07-20-2019-5588
END:VEVENT

END:VCALENDAR
